FILENAME: O4610514.NWS.1163737.tif
QUADRANGLE_NAME: TERRY
QUADRANT: NW
WEST_LONGITUDE: -105 22 30.00000
EAST_LONGITUDE: -105 18 45.00000
NORTH_LATITUDE: 46 52 30.00000
SOUTH_LATITUDE: 46 48 45.00000
PRODUCTION_DATE: 2001 9 7
RASTER_ORDER: LEFT_RIGHT/TOP_BOTTOM
BAND_ORGANIZATION: SINGLE FILE
BAND_CONTENT: BLACK&WHITE
BAND_CONTENT: UNDEFINED
BAND_CONTENT: UNDEFINED
BITS_PER_PIXEL: 8
SAMPLES_AND_LINES: 5448 7578
HORIZONTAL_DATUM: NAD83
HORIZONTAL_COORDINATE_SYSTEM: UTM
COORDINATE_ZONE: 13
HORIZONTAL_UNITS: meters
HORIZONTAL_RESOLUTION: 1.00000
SECONDARY_HORIZONTAL_DATUM: NAD27
XY_ORIGIN: 471044.00000 5191648.00000
SECONDARY_XY_ORIGIN: 471084.66400 5191428.51200
NATION: US
STATE: MT
NW_QUAD_CORNER_XY: 471423.99900 5191341.71900
NE_QUAD_CORNER_XY: 476186.66300 5191320.86400
SE_QUAD_CORNERY_XY: 476159.02900 5184375.66300
SW_QUAD_CORNER_XY: 471390.83900 5184396.52100
SECONDARY_NW_QUAD_XY: 471423.12100 5191123.24500
SECONDARY_NE_QUAD_XY: 476185.93100 5191102.38900
SECONDARY_SE_QUAD_XY: 476158.29800 5184157.21900
SECONDARY_SW_QUAD_XY: 471389.96100 5184178.07700
RMSE_XY: 1.99000
IMAGE_SOURCE: BLACK AND WHITE FILM
SOURCE_IMAGE_ID: NAPP 9116-065
SOURCE_IMAGE_DATE: 1996 8 27
SOURCE_IMAGE_ID: NAPP 9116-066
SOURCE_IMAGE_DATE: 1996 8 27
SOURCE_IMAGE_ID: NAPP 9116-064
SOURCE_IMAGE_DATE: 1996 8 27
SOURCE_IMAGE_ID: NAPP 9093-057
SOURCE_IMAGE_DATE: 1996 7 9
SOURCE_IMAGE_ID: NAPP 9093-058
SOURCE_IMAGE_DATE: 1996 7 9
SOURCE_DEM_DATE: 1999 0 0
AGENCY: WESTERN MAPPING CENTER (WMC)
PRODUCER: WOOLPERT LLP
PRODUCTION_SYSTEM: INTERGRAPH ISPM, ISIR
COMPRESSION: UNDEFINED
STANDARD_VERSION: 1996 12
METADATA_DATE: 2001 9 18
DATA_FILE_SIZE: 41290392
BYTE_COUNT: 5448
