FILENAME: O4610514.SWS.1163739.tif
QUADRANGLE_NAME: TERRY
QUADRANT: SW
WEST_LONGITUDE: -105 22 30.00000
EAST_LONGITUDE: -105 18 45.00000
NORTH_LATITUDE: 46 48 45.00000
SOUTH_LATITUDE: 46 45 0.00000
PRODUCTION_DATE: 2001 9 7
RASTER_ORDER: LEFT_RIGHT/TOP_BOTTOM
BAND_ORGANIZATION: SINGLE FILE
BAND_CONTENT: BLACK&WHITE
BAND_CONTENT: UNDEFINED
BAND_CONTENT: UNDEFINED
BITS_PER_PIXEL: 8
SAMPLES_AND_LINES: 5454 7578
HORIZONTAL_DATUM: NAD83
HORIZONTAL_COORDINATE_SYSTEM: UTM
COORDINATE_ZONE: 13
HORIZONTAL_UNITS: meters
HORIZONTAL_RESOLUTION: 1.00000
SECONDARY_HORIZONTAL_DATUM: NAD27
XY_ORIGIN: 471011.00000 5184703.00000
SECONDARY_XY_ORIGIN: 471051.68200 5184483.58900
NATION: US
STATE: MT
NW_QUAD_CORNER_XY: 471390.83900 5184396.52100
NE_QUAD_CORNER_XY: 476159.02900 5184375.66300
SE_QUAD_CORNERY_XY: 476131.42400 5177430.53700
SW_QUAD_CORNER_XY: 471357.71300 5177451.39800
SECONDARY_NW_QUAD_XY: 471389.96100 5184178.07700
SECONDARY_NE_QUAD_XY: 476158.29800 5184157.21900
SECONDARY_SE_QUAD_XY: 476130.69300 5177212.12400
SECONDARY_SW_QUAD_XY: 471356.83500 5177232.98600
RMSE_XY: 2.25000
IMAGE_SOURCE: BLACK AND WHITE FILM
SOURCE_IMAGE_ID: NAPP 9116-063
SOURCE_IMAGE_DATE: 1996 8 27
SOURCE_IMAGE_ID: NAPP 9116-064
SOURCE_IMAGE_DATE: 1996 8 27
SOURCE_IMAGE_ID: NAPP 9093-057
SOURCE_IMAGE_DATE: 1996 7 9
SOURCE_IMAGE_ID: NAPP 9093-056
SOURCE_IMAGE_DATE: 1996 7 9
SOURCE_DEM_DATE: 1999 0 0
AGENCY: WESTERN MAPPING CENTER (WMC)
PRODUCER: WOOLPERT LLP
PRODUCTION_SYSTEM: INTERGRAPH ISPM, ISIR
COMPRESSION: UNDEFINED
STANDARD_VERSION: 1996 12
METADATA_DATE: 2001 10 23
DATA_FILE_SIZE: 41335866
BYTE_COUNT: 5454
