FILENAME: O4610512.NWS.1163717.tif
QUADRANGLE_NAME: MCCLURE RESERVOIR
QUADRANT: NW
WEST_LONGITUDE: -105 37 30.00000
EAST_LONGITUDE: -105 33 45.00000
NORTH_LATITUDE: 46 52 30.00000
SOUTH_LATITUDE: 46 48 45.00000
PRODUCTION_DATE: 2001 9 10
RASTER_ORDER: LEFT_RIGHT/TOP_BOTTOM
BAND_ORGANIZATION: SINGLE FILE
BAND_CONTENT: BLACK&WHITE
BAND_CONTENT: UNDEFINED
BAND_CONTENT: UNDEFINED
BITS_PER_PIXEL: 8
SAMPLES_AND_LINES: 5472 7594
HORIZONTAL_DATUM: NAD83
HORIZONTAL_COORDINATE_SYSTEM: UTM
COORDINATE_ZONE: 13
HORIZONTAL_UNITS: meters
HORIZONTAL_RESOLUTION: 1.00000
SECONDARY_HORIZONTAL_DATUM: NAD27
XY_ORIGIN: 451970.00000 5191770.00000
SECONDARY_XY_ORIGIN: 452010.92900 5191550.50900
NATION: US
STATE: MT
NW_QUAD_CORNER_XY: 452373.37100 5191463.06100
NE_QUAD_CORNER_XY: 457136.02400 5191427.03700
SE_QUAD_CORNERY_XY: 457086.28200 5184481.85100
SW_QUAD_CORNER_XY: 452318.10200 5184517.87900
SECONDARY_NW_QUAD_XY: 452371.90700 5191244.59100
SECONDARY_NE_QUAD_XY: 457134.70600 5191208.56600
SECONDARY_SE_QUAD_XY: 457084.96500 5184263.41000
SECONDARY_SW_QUAD_XY: 452316.63900 5184299.43900
RMSE_XY: 2.60000
IMAGE_SOURCE: BLACK AND WHITE FILM
SOURCE_IMAGE_ID: NAPP 9094-160
SOURCE_IMAGE_DATE: 1996 7 9
SOURCE_IMAGE_ID: NAPP 9094-161
SOURCE_IMAGE_DATE: 1996 7 9
SOURCE_IMAGE_ID: NAPP 9094-020
SOURCE_IMAGE_DATE: 1996 7 9
SOURCE_DEM_DATE: 1999 0 0
AGENCY: WESTERN MAPPING CENTER (WMC)
PRODUCER: WOOLPERT LLP
PRODUCTION_SYSTEM: INTERGRAPH ISPM, ISIR
COMPRESSION: UNDEFINED
STANDARD_VERSION: 1996 12
METADATA_DATE: 2001 9 22
DATA_FILE_SIZE: 41559840
BYTE_COUNT: 5472
