FILENAME: O4610511.NES.1163854.tif
QUADRANGLE_NAME: PHYSIC CREEK
QUADRANT: NE
WEST_LONGITUDE: -105 41 15.00000
EAST_LONGITUDE: -105 37 30.00000
NORTH_LATITUDE: 46 52 30.00000
SOUTH_LATITUDE: 46 48 45.00000
PRODUCTION_DATE: 2001 9 13
RASTER_ORDER: LEFT_RIGHT/TOP_BOTTOM
BAND_ORGANIZATION: SINGLE FILE
BAND_CONTENT: BLACK&WHITE
BAND_CONTENT: UNDEFINED
BAND_CONTENT: UNDEFINED
BITS_PER_PIXEL: 8
SAMPLES_AND_LINES: 5477 7597
HORIZONTAL_DATUM: NAD83
HORIZONTAL_COORDINATE_SYSTEM: UTM
COORDINATE_ZONE: 13
HORIZONTAL_UNITS: meters
HORIZONTAL_RESOLUTION: 1.00000
SECONDARY_HORIZONTAL_DATUM: NAD27
XY_ORIGIN: 447202.00000 5191809.00000
SECONDARY_XY_ORIGIN: 447243.00100 5191589.51300
NATION: US
STATE: MT
NW_QUAD_CORNER_XY: 447610.72200 5191502.87700
NE_QUAD_CORNER_XY: 452373.37100 5191463.06100
SE_QUAD_CORNERY_XY: 452318.10200 5184517.87900
SW_QUAD_CORNER_XY: 447549.92600 5184557.70000
SECONDARY_NW_QUAD_XY: 447609.11200 5191284.40800
SECONDARY_NE_QUAD_XY: 452371.90700 5191244.59100
SECONDARY_SE_QUAD_XY: 452316.63900 5184299.43900
SECONDARY_SW_QUAD_XY: 447548.31600 5184339.26200
RMSE_XY: 2.15000
IMAGE_SOURCE: BLACK AND WHITE FILM
SOURCE_IMAGE_ID: NAPP 9105-067
SOURCE_IMAGE_DATE: 1996 8 1
SOURCE_DEM_DATE: 1999 0 0
AGENCY: WESTERN MAPPING CENTER (WMC)
PRODUCER: WOOLPERT LLP
PRODUCTION_SYSTEM: INTERGRAPH ISPM, ISIR
COMPRESSION: UNDEFINED
STANDARD_VERSION: 1996 12
METADATA_DATE: 2001 9 13
DATA_FILE_SIZE: 41614246
BYTE_COUNT: 5477
