FILENAME: O4610511.SES.1163856.tif
QUADRANGLE_NAME: PHYSIC CREEK
QUADRANT: SE
WEST_LONGITUDE: -105 41 15.00000
EAST_LONGITUDE: -105 37 30.00000
NORTH_LATITUDE: 46 48 45.00000
SOUTH_LATITUDE: 46 45 0.00000
PRODUCTION_DATE: 2001 9 13
RASTER_ORDER: LEFT_RIGHT/TOP_BOTTOM
BAND_ORGANIZATION: SINGLE FILE
BAND_CONTENT: BLACK&WHITE
BAND_CONTENT: UNDEFINED
BAND_CONTENT: UNDEFINED
BITS_PER_PIXEL: 8
SAMPLES_AND_LINES: 5483 7597
HORIZONTAL_DATUM: NAD83
HORIZONTAL_COORDINATE_SYSTEM: UTM
COORDINATE_ZONE: 13
HORIZONTAL_UNITS: meters
HORIZONTAL_RESOLUTION: 1.00000
SECONDARY_HORIZONTAL_DATUM: NAD27
XY_ORIGIN: 447141.00000 5184864.00000
SECONDARY_XY_ORIGIN: 447182.00600 5184644.57300
NATION: US
STATE: MT
NW_QUAD_CORNER_XY: 447549.92600 5184557.70000
NE_QUAD_CORNER_XY: 452318.10200 5184517.87900
SE_QUAD_CORNERY_XY: 452262.89100 5177572.77300
SW_QUAD_CORNER_XY: 447489.19300 5177612.59900
SECONDARY_NW_QUAD_XY: 447548.31600 5184339.26200
SECONDARY_NE_QUAD_XY: 452316.63900 5184299.43900
SECONDARY_SE_QUAD_XY: 452261.42800 5177354.36400
SECONDARY_SW_QUAD_XY: 447487.58300 5177394.19200
RMSE_XY: 2.02000
IMAGE_SOURCE: BLACK AND WHITE FILM
SOURCE_IMAGE_ID: NAPP 9105-065
SOURCE_IMAGE_DATE: 1996 8 1
SOURCE_IMAGE_ID: NAPP 9105-039
SOURCE_IMAGE_DATE: 1996 8 1
SOURCE_DEM_DATE: 1999 0 0
AGENCY: WESTERN MAPPING CENTER (WMC)
PRODUCER: WOOLPERT LLP
PRODUCTION_SYSTEM: INTERGRAPH ISPM, ISIR
COMPRESSION: UNDEFINED
STANDARD_VERSION: 1996 12
METADATA_DATE: 2001 9 20
DATA_FILE_SIZE: 41659834
BYTE_COUNT: 5483
