FILENAME: O4610511.SWS.1163857.tif
QUADRANGLE_NAME: PHYSIC CREEK
QUADRANT: SW
WEST_LONGITUDE: -105 45 0.00000
EAST_LONGITUDE: -105 41 15.00000
NORTH_LATITUDE: 46 48 45.00000
SOUTH_LATITUDE: 46 45 0.00000
PRODUCTION_DATE: 2001 9 13
RASTER_ORDER: LEFT_RIGHT/TOP_BOTTOM
BAND_ORGANIZATION: SINGLE FILE
BAND_CONTENT: BLACK&WHITE
BAND_CONTENT: UNDEFINED
BAND_CONTENT: UNDEFINED
BITS_PER_PIXEL: 8
SAMPLES_AND_LINES: 5488 7601
HORIZONTAL_DATUM: NAD83
HORIZONTAL_COORDINATE_SYSTEM: UTM
COORDINATE_ZONE: 13
HORIZONTAL_UNITS: meters
HORIZONTAL_RESOLUTION: 1.00000
SECONDARY_HORIZONTAL_DATUM: NAD27
XY_ORIGIN: 442367.00000 5184908.00000
SECONDARY_XY_ORIGIN: 442408.07600 5184688.57400
NATION: US
STATE: MT
NW_QUAD_CORNER_XY: 442781.75400 5184601.31500
NE_QUAD_CORNER_XY: 447549.92600 5184557.70000
SE_QUAD_CORNERY_XY: 447489.19300 5177612.59900
SW_QUAD_CORNER_XY: 442715.49900 5177656.21900
SECONDARY_NW_QUAD_XY: 442779.99700 5184382.87800
SECONDARY_NE_QUAD_XY: 447548.31600 5184339.26200
SECONDARY_SE_QUAD_XY: 447487.58300 5177394.19200
SECONDARY_SW_QUAD_XY: 442713.74300 5177437.81300
RMSE_XY: 2.17000
IMAGE_SOURCE: BLACK AND WHITE FILM
SOURCE_IMAGE_ID: NAPP 10721-163
SOURCE_IMAGE_DATE: 1997 8 25
SOURCE_DEM_DATE: 1999 0 0
AGENCY: WESTERN MAPPING CENTER (WMC)
PRODUCER: WOOLPERT LLP
PRODUCTION_SYSTEM: INTERGRAPH ISPM, ISIR
COMPRESSION: UNDEFINED
STANDARD_VERSION: 1996 12
METADATA_DATE: 2001 9 13
DATA_FILE_SIZE: 41719776
BYTE_COUNT: 5488
