FILENAME: O4610508.SES.1163710.tif
QUADRANGLE_NAME: FALLON NE
QUADRANT: SE
WEST_LONGITUDE: -105 3 45.00000
EAST_LONGITUDE: -105 0 0.00000
NORTH_LATITUDE: 46 56 15.00000
SOUTH_LATITUDE: 46 52 30.00000
PRODUCTION_DATE: 2001 8 28
RASTER_ORDER: LEFT_RIGHT/TOP_BOTTOM
BAND_ORGANIZATION: SINGLE FILE
BAND_CONTENT: BLACK&WHITE
BAND_CONTENT: UNDEFINED
BAND_CONTENT: UNDEFINED
BITS_PER_PIXEL: 8
SAMPLES_AND_LINES: 5414 7559
HORIZONTAL_DATUM: NAD83
HORIZONTAL_COORDINATE_SYSTEM: UTM
COORDINATE_ZONE: 13
HORIZONTAL_UNITS: meters
HORIZONTAL_RESOLUTION: 1.00000
SECONDARY_HORIZONTAL_DATUM: NAD27
XY_ORIGIN: 494891.00000 5198527.00000
SECONDARY_XY_ORIGIN: 494931.27400 5198307.44200
NATION: US
STATE: MT
NW_QUAD_CORNER_XY: 495242.86300 5198220.64500
NE_QUAD_CORNER_XY: 500000.00000 5198218.75000
SE_QUAD_CORNERY_XY: 500000.00000 5191273.46600
SW_QUAD_CORNER_XY: 495237.33100 5191275.36200
SECONDARY_NW_QUAD_XY: 495242.71700 5198002.14000
SECONDARY_NE_QUAD_XY: 500000.00000 5198000.24400
SECONDARY_SE_QUAD_XY: 500000.00000 5191054.99000
SECONDARY_SW_QUAD_XY: 495237.18500 5191056.88600
RMSE_XY: 2.52000
IMAGE_SOURCE: BLACK AND WHITE FILM
SOURCE_IMAGE_ID: NAPP 9096-208
SOURCE_IMAGE_DATE: 1996 7 9
SOURCE_DEM_DATE: 1999 0 0
AGENCY: WESTERN MAPPING CENTER (WMC)
PRODUCER: WOOLPERT LLP
PRODUCTION_SYSTEM: INTERGRAPH ISPM, ISIR
COMPRESSION: UNDEFINED
STANDARD_VERSION: 1996 12
METADATA_DATE: 2001 8 28
DATA_FILE_SIZE: 40929840
BYTE_COUNT: 5414
