FILENAME: O4610508.SWS.1163711.tif
QUADRANGLE_NAME: FALLON NE
QUADRANT: SW
WEST_LONGITUDE: -105 7 30.00000
EAST_LONGITUDE: -105 3 45.00000
NORTH_LATITUDE: 46 56 15.00000
SOUTH_LATITUDE: 46 52 30.00000
PRODUCTION_DATE: 2001 8 28
RASTER_ORDER: LEFT_RIGHT/TOP_BOTTOM
BAND_ORGANIZATION: SINGLE FILE
BAND_CONTENT: BLACK&WHITE
BAND_CONTENT: UNDEFINED
BAND_CONTENT: UNDEFINED
BITS_PER_PIXEL: 8
SAMPLES_AND_LINES: 5420 7563
HORIZONTAL_DATUM: NAD83
HORIZONTAL_COORDINATE_SYSTEM: UTM
COORDINATE_ZONE: 13
HORIZONTAL_UNITS: meters
HORIZONTAL_RESOLUTION: 1.00000
SECONDARY_HORIZONTAL_DATUM: NAD27
XY_ORIGIN: 490128.00000 5198533.00000
SECONDARY_XY_ORIGIN: 490168.35700 5198313.44000
NATION: US
STATE: MT
NW_QUAD_CORNER_XY: 490485.72700 5198226.33200
NE_QUAD_CORNER_XY: 495242.86300 5198220.64500
SE_QUAD_CORNERY_XY: 495237.33100 5191275.36200
SW_QUAD_CORNER_XY: 490474.66300 5191281.04900
SECONDARY_NW_QUAD_XY: 490485.43500 5198007.82700
SECONDARY_NE_QUAD_XY: 495242.71700 5198002.14000
SECONDARY_SE_QUAD_XY: 495237.18500 5191056.88600
SECONDARY_SW_QUAD_XY: 490474.37000 5191062.57400
RMSE_XY: 2.44000
IMAGE_SOURCE: BLACK AND WHITE FILM
SOURCE_IMAGE_ID: NAPP 9119-128
SOURCE_IMAGE_DATE: 1996 8 26
SOURCE_IMAGE_ID: NAPP 9119-136
SOURCE_IMAGE_DATE: 1996 8 26
SOURCE_DEM_DATE: 1999 0 0
AGENCY: WESTERN MAPPING CENTER (WMC)
PRODUCER: WOOLPERT LLP
PRODUCTION_SYSTEM: INTERGRAPH ISPM, ISIR
COMPRESSION: UNDEFINED
STANDARD_VERSION: 1996 12
METADATA_DATE: 2001 9 10
DATA_FILE_SIZE: 40996880
BYTE_COUNT: 5420
