FILENAME: O4610507.SES.1163686.tif
QUADRANGLE_NAME: HENDRICKSON COULEE
QUADRANT: SE
WEST_LONGITUDE: -105 11 15.00000
EAST_LONGITUDE: -105 7 30.00000
NORTH_LATITUDE: 46 56 15.00000
SOUTH_LATITUDE: 46 52 30.00000
PRODUCTION_DATE: 2001 9 6
RASTER_ORDER: LEFT_RIGHT/TOP_BOTTOM
BAND_ORGANIZATION: SINGLE FILE
BAND_CONTENT: BLACK&WHITE
BAND_CONTENT: UNDEFINED
BAND_CONTENT: UNDEFINED
BITS_PER_PIXEL: 8
SAMPLES_AND_LINES: 5425 7566
HORIZONTAL_DATUM: NAD83
HORIZONTAL_COORDINATE_SYSTEM: UTM
COORDINATE_ZONE: 13
HORIZONTAL_UNITS: meters
HORIZONTAL_RESOLUTION: 1.00000
SECONDARY_HORIZONTAL_DATUM: NAD27
XY_ORIGIN: 485366.00000 5198542.00000
SECONDARY_XY_ORIGIN: 485406.44000 5198322.43900
NATION: US
STATE: MT
NW_QUAD_CORNER_XY: 485728.59200 5198235.81100
NE_QUAD_CORNER_XY: 490485.72700 5198226.33200
SE_QUAD_CORNERY_XY: 490474.66300 5191281.04900
SW_QUAD_CORNER_XY: 485711.99500 5191290.52900
SECONDARY_NW_QUAD_XY: 485728.15300 5198017.30600
SECONDARY_NE_QUAD_XY: 490485.43500 5198007.82700
SECONDARY_SE_QUAD_XY: 490474.37000 5191062.57400
SECONDARY_SW_QUAD_XY: 485711.55600 5191072.05400
RMSE_XY: 2.50000
IMAGE_SOURCE: BLACK AND WHITE FILM
SOURCE_IMAGE_ID: NAPP 9119-135
SOURCE_IMAGE_DATE: 1996 8 26
SOURCE_IMAGE_ID: NAPP 9119-136
SOURCE_IMAGE_DATE: 1996 8 26
SOURCE_DEM_DATE: 1999 0 0
AGENCY: WESTERN MAPPING CENTER (WMC)
PRODUCER: WOOLPERT LLP
PRODUCTION_SYSTEM: INTERGRAPH ISPM, ISIR
COMPRESSION: UNDEFINED
STANDARD_VERSION: 1996 12
METADATA_DATE: 2001 9 12
DATA_FILE_SIZE: 41050975
BYTE_COUNT: 5425
