FILENAME: O4610507.SWS.1163687.tif
QUADRANGLE_NAME: HENDRICKSON COULEE
QUADRANT: SW
WEST_LONGITUDE: -105 15 0.00000
EAST_LONGITUDE: -105 11 15.00000
NORTH_LATITUDE: 46 56 15.00000
SOUTH_LATITUDE: 46 52 30.00000
PRODUCTION_DATE: 2001 9 6
RASTER_ORDER: LEFT_RIGHT/TOP_BOTTOM
BAND_ORGANIZATION: SINGLE FILE
BAND_CONTENT: BLACK&WHITE
BAND_CONTENT: UNDEFINED
BAND_CONTENT: UNDEFINED
BITS_PER_PIXEL: 8
SAMPLES_AND_LINES: 5431 7571
HORIZONTAL_DATUM: NAD83
HORIZONTAL_COORDINATE_SYSTEM: UTM
COORDINATE_ZONE: 13
HORIZONTAL_UNITS: meters
HORIZONTAL_RESOLUTION: 1.00000
SECONDARY_HORIZONTAL_DATUM: NAD27
XY_ORIGIN: 480603.00000 5198556.00000
SECONDARY_XY_ORIGIN: 480643.52100 5198336.43700
NATION: US
STATE: MT
NW_QUAD_CORNER_XY: 480971.45800 5198249.08000
NE_QUAD_CORNER_XY: 485728.59200 5198235.81100
SE_QUAD_CORNERY_XY: 485711.99500 5191290.52900
SW_QUAD_CORNER_XY: 480949.32800 5191303.80100
SECONDARY_NW_QUAD_XY: 480970.87200 5198030.57600
SECONDARY_NE_QUAD_XY: 485728.15300 5198017.30600
SECONDARY_SE_QUAD_XY: 485711.55600 5191072.05400
SECONDARY_SW_QUAD_XY: 480948.74300 5191085.32500
RMSE_XY: 2.45000
IMAGE_SOURCE: BLACK AND WHITE FILM
SOURCE_IMAGE_ID: NAPP 9119-242
SOURCE_IMAGE_DATE: 1996 8 26
SOURCE_IMAGE_ID: NAPP 9119-135
SOURCE_IMAGE_DATE: 1996 8 26
SOURCE_IMAGE_ID: NAPP 9116-204
SOURCE_IMAGE_DATE: 1996 8 27
SOURCE_IMAGE_ID: NAPP 9119-243
SOURCE_IMAGE_DATE: 1996 8 26
SOURCE_DEM_DATE: 1999 0 0
AGENCY: WESTERN MAPPING CENTER (WMC)
PRODUCER: WOOLPERT LLP
PRODUCTION_SYSTEM: INTERGRAPH ISPM, ISIR
COMPRESSION: UNDEFINED
STANDARD_VERSION: 1996 12
METADATA_DATE: 2001 10 25
DATA_FILE_SIZE: 41123532
BYTE_COUNT: 5431
