FILENAME: O4610506.NWS.1163681.tif
QUADRANGLE_NAME: DIAMOND G CREEK
QUADRANT: NW
WEST_LONGITUDE: -105 22 30.00000
EAST_LONGITUDE: -105 18 45.00000
NORTH_LATITUDE: 47 0 0.00000
SOUTH_LATITUDE: 46 56 15.00000
PRODUCTION_DATE: 2001 9 6
RASTER_ORDER: LEFT_RIGHT/TOP_BOTTOM
BAND_ORGANIZATION: SINGLE FILE
BAND_CONTENT: BLACK&WHITE
BAND_CONTENT: UNDEFINED
BAND_CONTENT: UNDEFINED
BITS_PER_PIXEL: 8
SAMPLES_AND_LINES: 5438 7578
HORIZONTAL_DATUM: NAD83
HORIZONTAL_COORDINATE_SYSTEM: UTM
COORDINATE_ZONE: 13
HORIZONTAL_UNITS: meters
HORIZONTAL_RESOLUTION: 1.00000
SECONDARY_HORIZONTAL_DATUM: NAD27
XY_ORIGIN: 471110.00000 5205539.00000
SECONDARY_XY_ORIGIN: 471150.62600 5205319.36100
NATION: US
STATE: MT
NW_QUAD_CORNER_XY: 471490.42300 5205232.34400
NE_QUAD_CORNER_XY: 476242.01600 5205211.49500
SE_QUAD_CORNERY_XY: 476214.32500 5198266.14100
SW_QUAD_CORNER_XY: 471457.19400 5198286.99400
SECONDARY_NW_QUAD_XY: 471489.54400 5205013.81100
SECONDARY_NE_QUAD_XY: 476241.28300 5204992.96100
SECONDARY_SE_QUAD_XY: 476213.59300 5198047.63700
SECONDARY_SW_QUAD_XY: 471456.31600 5198068.49000
RMSE_XY: 2.70000
IMAGE_SOURCE: BLACK AND WHITE FILM
SOURCE_IMAGE_ID: NAPP 9116-069
SOURCE_IMAGE_DATE: 1996 8 27
SOURCE_IMAGE_ID: NAPP 9093-063
SOURCE_IMAGE_DATE: 1996 7 9
SOURCE_IMAGE_ID: NAPP 9093-068
SOURCE_IMAGE_DATE: 1996 8 27
SOURCE_DEM_DATE: 1999 0 0
AGENCY: WESTERN MAPPING CENTER (WMC)
PRODUCER: WOOLPERT LLP
PRODUCTION_SYSTEM: INTERGRAPH ISPM, ISIR
COMPRESSION: UNDEFINED
STANDARD_VERSION: 1996 12
METADATA_DATE: 2001 10 23
DATA_FILE_SIZE: 41214602
BYTE_COUNT: 5438
