FILENAME: O4610505.NES.1163870.tif
QUADRANGLE_NAME: PAPPS RESERVOIR
QUADRANT: NE
WEST_LONGITUDE: -105 26 15.00000
EAST_LONGITUDE: -105 22 30.00000
NORTH_LATITUDE: 47 0 0.00000
SOUTH_LATITUDE: 46 56 15.00000
PRODUCTION_DATE: 2001 9 11
RASTER_ORDER: LEFT_RIGHT/TOP_BOTTOM
BAND_ORGANIZATION: SINGLE FILE
BAND_CONTENT: BLACK&WHITE
BAND_CONTENT: UNDEFINED
BAND_CONTENT: UNDEFINED
BITS_PER_PIXEL: 8
SAMPLES_AND_LINES: 5443 7583
HORIZONTAL_DATUM: NAD83
HORIZONTAL_COORDINATE_SYSTEM: UTM
COORDINATE_ZONE: 13
HORIZONTAL_UNITS: meters
HORIZONTAL_RESOLUTION: 1.00000
SECONDARY_HORIZONTAL_DATUM: NAD27
XY_ORIGIN: 466353.00000 5205564.00000
SECONDARY_XY_ORIGIN: 466393.69000 5205344.36400
NATION: US
STATE: MT
NW_QUAD_CORNER_XY: 466738.83300 5205256.98400
NE_QUAD_CORNER_XY: 471490.42300 5205232.34400
SE_QUAD_CORNERY_XY: 471457.19400 5198286.99400
SW_QUAD_CORNER_XY: 466700.06500 5198311.63700
SECONDARY_NW_QUAD_XY: 466737.80800 5205038.45200
SECONDARY_NE_QUAD_XY: 471489.54400 5205013.81100
SECONDARY_SE_QUAD_XY: 471456.31600 5198068.49000
SECONDARY_SW_QUAD_XY: 466699.04100 5198093.13500
RMSE_XY: 2.10000
IMAGE_SOURCE: BLACK AND WHITE FILM
SOURCE_IMAGE_ID: NAPP 9093-062
SOURCE_IMAGE_DATE: 1996 7 9
SOURCE_IMAGE_ID: NAPP 9093-063
SOURCE_IMAGE_DATE: 1996 7 9
SOURCE_IMAGE_ID: NAPP 9093-194
SOURCE_IMAGE_DATE: 1996 7 9
SOURCE_DEM_DATE: 1999 0 0
AGENCY: WESTERN MAPPING CENTER (WMC)
PRODUCER: WOOLPERT LLP
PRODUCTION_SYSTEM: INTERGRAPH ISPM, ISIR
COMPRESSION: UNDEFINED
STANDARD_VERSION: 1996 12
METADATA_DATE: 2001 9 22
DATA_FILE_SIZE: 41279712
BYTE_COUNT: 5443
