FILENAME: O4610503.NWS.1163851.tif
QUADRANGLE_NAME: SOUTH FORK RESERVOIR
QUADRANT: NW
WEST_LONGITUDE: -105 45 0.00000
EAST_LONGITUDE: -105 41 15.00000
NORTH_LATITUDE: 47 0 0.00000
SOUTH_LATITUDE: 46 56 15.00000
PRODUCTION_DATE: 2001 9 13
RASTER_ORDER: LEFT_RIGHT/TOP_BOTTOM
BAND_ORGANIZATION: SINGLE FILE
BAND_CONTENT: BLACK&WHITE
BAND_CONTENT: UNDEFINED
BAND_CONTENT: UNDEFINED
BITS_PER_PIXEL: 8
SAMPLES_AND_LINES: 5472 7601
HORIZONTAL_DATUM: NAD83
HORIZONTAL_COORDINATE_SYSTEM: UTM
COORDINATE_ZONE: 13
HORIZONTAL_UNITS: meters
HORIZONTAL_RESOLUTION: 1.00000
SECONDARY_HORIZONTAL_DATUM: NAD27
XY_ORIGIN: 442566.00000 5205744.00000
SECONDARY_XY_ORIGIN: 442607.07100 5205524.40700
NATION: US
STATE: MT
NW_QUAD_CORNER_XY: 442980.92900 5205437.05100
NE_QUAD_CORNER_XY: 447732.50200 5205393.45500
SE_QUAD_CORNERY_XY: 447671.58100 5198448.12800
SW_QUAD_CORNER_XY: 442914.46900 5198491.73000
SECONDARY_NW_QUAD_XY: 442979.17200 5205218.52500
SECONDARY_NE_QUAD_XY: 447730.89100 5205174.92800
SECONDARY_SE_QUAD_XY: 447669.97000 5198229.63000
SECONDARY_SW_QUAD_XY: 442912.71200 5198273.23300
RMSE_XY: 1.82000
IMAGE_SOURCE: BLACK AND WHITE FILM
SOURCE_IMAGE_ID: NAPP 10721-157
SOURCE_IMAGE_DATE: 1997 8 25
SOURCE_DEM_DATE: 1999 0 0
AGENCY: WESTERN MAPPING CENTER (WMC)
PRODUCER: WOOLPERT LLP
PRODUCTION_SYSTEM: INTERGRAPH ISPM, ISIR
COMPRESSION: UNDEFINED
STANDARD_VERSION: 1996 12
METADATA_DATE: 2001 9 13
DATA_FILE_SIZE: 41598144
BYTE_COUNT: 5472
