FILENAME: O4610663.NWS.1008910.tif
QUADRANGLE_NAME: MILLER CREEK SW
QUADRANT: NW
WEST_LONGITUDE: -106 15 0.00000
EAST_LONGITUDE: -106 11 15.00000
NORTH_LATITUDE: 46 7 30.00000
SOUTH_LATITUDE: 46 3 45.00000
PRODUCTION_DATE: 1999 5 25
RASTER_ORDER: LEFT_RIGHT/TOP_BOTTOM
BAND_ORGANIZATION: SINGLE FILE
BAND_CONTENT: BLACK&WHITE
BAND_CONTENT: UNDEFINED
BAND_CONTENT: UNDEFINED
BITS_PER_PIXEL: 8
SAMPLES_AND_LINES: 5584 7622
HORIZONTAL_DATUM: NAD83
HORIZONTAL_COORDINATE_SYSTEM: UTM
COORDINATE_ZONE: 13
HORIZONTAL_UNITS: METERS
HORIZONTAL_RESOLUTION: 1.00000
SECONDARY_HORIZONTAL_DATUM: NAD27
XY_ORIGIN: 402974.00000 5108997.00000
SECONDARY_XY_ORIGIN: 403014.93500 5108778.30200
NATION: US
NATION: "SCIENCE
STATE: MT
NW_QUAD_CORNER_XY: 403428.08700 5108695.43400
NE_QUAD_CORNER_XY: 408256.65600 5108621.38400
SE_QUAD_CORNERY_XY: 408152.94600 5101677.14600
SW_QUAD_CORNER_XY: 403318.91800 5101751.20200
SECONDARY_NW_QUAD_XY: 403425.16600 5108477.40400
SECONDARY_NE_QUAD_XY: 408253.88000 5108403.35200
SECONDARY_SE_QUAD_XY: 408150.17200 5101459.15400
SECONDARY_SW_QUAD_XY: 403315.99700 5101533.21200
RMSE_XY: 1.00000
IMAGE_SOURCE: BLACK AND WHITE FILM
SOURCE_IMAGE_ID: NAPP 10722 030
SOURCE_IMAGE_DATE: 1997 08 25
SOURCE_DEM_DATE: 1968 00 00
AGENCY: WESTERN MAPPING CENTER (WMC)
PRODUCER: UNDEFINED
PRODUCTION_SYSTEM: GIS/MAGIC
COMPRESSION: UNDEFINED
STANDARD_VERSION: 1996 12
METADATA_DATE: 1999 06 02
DATA_FILE_SIZE: 42566832
BYTE_COUNT: 5584
