FILENAME: O4610661.SES.1008888.tif
QUADRANGLE_NAME: MITCHELL COULEE
QUADRANT: SE
WEST_LONGITUDE: -106 26 15.00000
EAST_LONGITUDE: -106 22 30.00000
NORTH_LATITUDE: 46 3 45.00000
SOUTH_LATITUDE: 46 0 0.00000
PRODUCTION_DATE: 1999 5 24
RASTER_ORDER: LEFT_RIGHT/TOP_BOTTOM
BAND_ORGANIZATION: SINGLE FILE
BAND_CONTENT: BLACK&WHITE
BAND_CONTENT: UNDEFINED
BAND_CONTENT: UNDEFINED
BITS_PER_PIXEL: 8
SAMPLES_AND_LINES: 5606 7633
HORIZONTAL_DATUM: NAD83
HORIZONTAL_COORDINATE_SYSTEM: UTM
COORDINATE_ZONE: 13
HORIZONTAL_UNITS: METERS
HORIZONTAL_RESOLUTION: 1.00000
SECONDARY_HORIZONTAL_DATUM: NAD27
XY_ORIGIN: 388346.00000 5102297.00000
SECONDARY_XY_ORIGIN: 388387.10900 5102078.47200
NATION: US
NATION: "SCIENCE
STATE: MT
NW_QUAD_CORNER_XY: 388816.85700 5101996.16300
NE_QUAD_CORNER_XY: 393650.87300 5101910.71000
SE_QUAD_CORNERY_XY: 393530.91000 5094966.56200
SW_QUAD_CORNER_XY: 388691.43900 5095052.02200
SECONDARY_NW_QUAD_XY: 388813.49800 5101778.18000
SECONDARY_NE_QUAD_XY: 393647.66000 5101692.72500
SECONDARY_SE_QUAD_XY: 393527.69800 5094748.61900
SECONDARY_SW_QUAD_XY: 388688.08100 5094834.08100
RMSE_XY: 0.80000
IMAGE_SOURCE: BLACK AND WHITE FILM
SOURCE_IMAGE_ID: NAPP 9106 241
SOURCE_IMAGE_DATE: 1996 08 07
SOURCE_DEM_DATE: 1970 00 00
AGENCY: WESTERN MAPPING CENTER (WMC)
PRODUCER: UNDEFINED
PRODUCTION_SYSTEM: GIS/MAGIC
COMPRESSION: UNDEFINED
STANDARD_VERSION: 1996 12
METADATA_DATE: 1999 06 02
DATA_FILE_SIZE: 42796204
BYTE_COUNT: 5606
