FILENAME: O4610660.NWS.1008867.tif
QUADRANGLE_NAME: MCKERLICH CREEK
QUADRANT: NW
WEST_LONGITUDE: -106 37 30.00000
EAST_LONGITUDE: -106 33 45.00000
NORTH_LATITUDE: 46 7 30.00000
SOUTH_LATITUDE: 46 3 45.00000
PRODUCTION_DATE: 1999 5 25
RASTER_ORDER: LEFT_RIGHT/TOP_BOTTOM
BAND_ORGANIZATION: SINGLE FILE
BAND_CONTENT: BLACK&WHITE
BAND_CONTENT: UNDEFINED
BAND_CONTENT: UNDEFINED
BITS_PER_PIXEL: 8
SAMPLES_AND_LINES: 5619 7644
HORIZONTAL_DATUM: NAD83
HORIZONTAL_COORDINATE_SYSTEM: UTM
COORDINATE_ZONE: 13
HORIZONTAL_UNITS: METERS
HORIZONTAL_RESOLUTION: 1.00000
SECONDARY_HORIZONTAL_DATUM: NAD27
XY_ORIGIN: 373968.00000 5109520.00000
SECONDARY_XY_ORIGIN: 374009.42800 5109301.60500
NATION: US
NATION: "SCIENCE
STATE: MT
NW_QUAD_CORNER_XY: 374456.77300 5109219.50900
NE_QUAD_CORNER_XY: 379285.31300 5109122.66500
SE_QUAD_CORNERY_XY: 379148.84000 5102178.46700
SW_QUAD_CORNER_XY: 374314.83900 5102275.31900
SECONDARY_NW_QUAD_XY: 374452.97600 5109001.49400
SECONDARY_NE_QUAD_XY: 379281.66100 5108904.64700
SECONDARY_SE_QUAD_XY: 379145.18900 5101960.49000
SECONDARY_SW_QUAD_XY: 374311.04200 5102057.34500
RMSE_XY: 1.70000
IMAGE_SOURCE: BLACK AND WHITE FILM
SOURCE_IMAGE_ID: NAPP 9110 234
SOURCE_IMAGE_DATE: 1996 08 11
SOURCE_IMAGE_ID: NAPP 9110 233
SOURCE_IMAGE_DATE: 1996 08 11
SOURCE_IMAGE_ID: NAPP 9110 043
SOURCE_IMAGE_DATE: 1996 08 11
SOURCE_DEM_DATE: 1970 00 00
AGENCY: WESTERN MAPPING CENTER (WMC)
PRODUCER: UNDEFINED
PRODUCTION_SYSTEM: GIS/MAGIC
COMPRESSION: UNDEFINED
STANDARD_VERSION: 1996 12
METADATA_DATE: 1999 06 02
DATA_FILE_SIZE: 42957255
BYTE_COUNT: 5619
