FILENAME: O4610659.NES.1008862.tif
QUADRANGLE_NAME: SHEEP CREEK CAMP
QUADRANT: NE
WEST_LONGITUDE: -106 41 15.00000
EAST_LONGITUDE: -106 37 30.00000
NORTH_LATITUDE: 46 7 30.00000
SOUTH_LATITUDE: 46 3 45.00000
PRODUCTION_DATE: 1999 5 25
RASTER_ORDER: LEFT_RIGHT/TOP_BOTTOM
BAND_ORGANIZATION: SINGLE FILE
BAND_CONTENT: BLACK&WHITE
BAND_CONTENT: UNDEFINED
BAND_CONTENT: UNDEFINED
BITS_PER_PIXEL: 8
SAMPLES_AND_LINES: 5624 7648
HORIZONTAL_DATUM: NAD83
HORIZONTAL_COORDINATE_SYSTEM: UTM
COORDINATE_ZONE: 13
HORIZONTAL_UNITS: METERS
HORIZONTAL_RESOLUTION: 1.00000
SECONDARY_HORIZONTAL_DATUM: NAD27
XY_ORIGIN: 369134.00000 5109621.00000
SECONDARY_XY_ORIGIN: 369175.52700 5109402.67600
NATION: US
NATION: "SCIENCE
STATE: MT
NW_QUAD_CORNER_XY: 369628.24000 5109320.15300
NE_QUAD_CORNER_XY: 374456.77300 5109219.50900
SE_QUAD_CORNERY_XY: 374314.83900 5102275.31900
SW_QUAD_CORNER_XY: 369480.84300 5102375.97100
SECONDARY_NW_QUAD_XY: 369624.29600 5109102.14100
SECONDARY_NE_QUAD_XY: 374452.97600 5109001.49400
SECONDARY_SE_QUAD_XY: 374311.04200 5102057.34500
SECONDARY_SW_QUAD_XY: 369476.90000 5102158.00000
RMSE_XY: 2.50000
IMAGE_SOURCE: BLACK AND WHITE FILM
SOURCE_IMAGE_ID: NAPP 9111 063
SOURCE_IMAGE_DATE: 1996 08 11
SOURCE_IMAGE_ID: NAPP 9115 139
SOURCE_IMAGE_DATE: 1996 09 10
SOURCE_DEM_DATE: 1970 00 00
AGENCY: WESTERN MAPPING CENTER (WMC)
PRODUCER: UNDEFINED
PRODUCTION_SYSTEM: GIS/MAGIC
COMPRESSION: UNDEFINED
STANDARD_VERSION: 1996 12
METADATA_DATE: 1999 06 02
DATA_FILE_SIZE: 43017976
BYTE_COUNT: 5624
