FILENAME: O4610658.SWS.1008861.tif
QUADRANGLE_NAME: GRIFFIN COULEE
QUADRANT: SW
WEST_LONGITUDE: -106 52 30.00000
EAST_LONGITUDE: -106 48 45.00000
NORTH_LATITUDE: 46 3 45.00000
SOUTH_LATITUDE: 46 0 0.00000
PRODUCTION_DATE: 1999 5 24
RASTER_ORDER: LEFT_RIGHT/TOP_BOTTOM
BAND_ORGANIZATION: SINGLE FILE
BAND_CONTENT: BLACK&WHITE
BAND_CONTENT: UNDEFINED
BAND_CONTENT: UNDEFINED
BITS_PER_PIXEL: 8
SAMPLES_AND_LINES: 5646 7659
HORIZONTAL_DATUM: NAD83
HORIZONTAL_COORDINATE_SYSTEM: UTM
COORDINATE_ZONE: 13
HORIZONTAL_UNITS: METERS
HORIZONTAL_RESOLUTION: 1.00000
SECONDARY_HORIZONTAL_DATUM: NAD27
XY_ORIGIN: 354468.00000 5103001.00000
SECONDARY_XY_ORIGIN: 354509.78900 5102782.91900
NATION: US
NATION: "SCIENCE
STATE: MT
NW_QUAD_CORNER_XY: 354978.89100 5102700.73000
NE_QUAD_CORNER_XY: 359812.86900 5102588.67600
SE_QUAD_CORNERY_XY: 359654.71500 5095644.58000
SW_QUAD_CORNER_XY: 354815.28000 5095756.64200
SECONDARY_NW_QUAD_XY: 354974.51000 5102482.76800
SECONDARY_NE_QUAD_XY: 359808.63400 5102370.71100
SECONDARY_SE_QUAD_XY: 359650.48100 5095426.65700
SECONDARY_SW_QUAD_XY: 354810.90000 5095538.72200
RMSE_XY: 1.40000
IMAGE_SOURCE: BLACK AND WHITE FILM
SOURCE_IMAGE_ID: NAPP 9115 049
SOURCE_IMAGE_DATE: 1996 09 10
SOURCE_IMAGE_ID: NAPP 9115 048
SOURCE_IMAGE_DATE: 1996 09 10
SOURCE_DEM_DATE: 1970 00 00
AGENCY: WESTERN MAPPING CENTER (WMC)
PRODUCER: UNDEFINED
PRODUCTION_SYSTEM: GIS/MAGIC
COMPRESSION: UNDEFINED
STANDARD_VERSION: 1996 12
METADATA_DATE: 1999 06 02
DATA_FILE_SIZE: 43248360
BYTE_COUNT: 5646
