FILENAME: O4610655.NES.1010595.tif
QUADRANGLE_NAME: MILLER CREEK NW
QUADRANT: NE
WEST_LONGITUDE: -106 11 15.00000
EAST_LONGITUDE: -106 7 30.00000
NORTH_LATITUDE: 46 15 0.00000
SOUTH_LATITUDE: 46 11 15.00000
PRODUCTION_DATE: 1999 6 7
RASTER_ORDER: LEFT_RIGHT/TOP_BOTTOM
BAND_ORGANIZATION: SINGLE FILE
BAND_CONTENT: BLACK&WHITE
BAND_CONTENT: UNDEFINED
BAND_CONTENT: UNDEFINED
BITS_PER_PIXEL: 8
SAMPLES_AND_LINES: 5569 7618
HORIZONTAL_DATUM: NAD83
HORIZONTAL_COORDINATE_SYSTEM: UTM
COORDINATE_ZONE: 13
HORIZONTAL_UNITS: METERS
HORIZONTAL_RESOLUTION: 1.00000
SECONDARY_HORIZONTAL_DATUM: NAD27
XY_ORIGIN: 408015.00000 5122811.00000
SECONDARY_XY_ORIGIN: 408055.99800 5122592.20100
NATION: US
NATION: "SCIENCE
STATE: MT
NW_QUAD_CORNER_XY: 408464.40400 5122510.08000
NE_QUAD_CORNER_XY: 413282.04000 5122439.84100
SE_QUAD_CORNERY_XY: 413183.58200 5115495.45000
SW_QUAD_CORNER_XY: 408360.47500 5115565.69600
SECONDARY_NW_QUAD_XY: 408461.62700 5122291.96800
SECONDARY_NE_QUAD_XY: 413279.41000 5122221.72700
SECONDARY_SE_QUAD_XY: 413180.95200 5115277.37600
SECONDARY_SW_QUAD_XY: 408357.69900 5115347.62300
RMSE_XY: 1.80000
IMAGE_SOURCE: BLACK AND WHITE FILM
SOURCE_IMAGE_ID: NAPP 9106 018
SOURCE_IMAGE_DATE: 1996 08 07
SOURCE_IMAGE_ID: NAPP 9106 116
SOURCE_IMAGE_DATE: 1996 08 07
SOURCE_IMAGE_ID: NAPP 9106 114
SOURCE_IMAGE_DATE: 1996 08 07
SOURCE_DEM_DATE: 1968 00 00
AGENCY: WESTERN MAPPING CENTER (WMC)
PRODUCER: UNDEFINED
PRODUCTION_SYSTEM: GIS/MAGIC
COMPRESSION: UNDEFINED
STANDARD_VERSION: 1996 12
METADATA_DATE: 1999 06 07
DATA_FILE_SIZE: 42430211
BYTE_COUNT: 5569
