FILENAME: O4610655.SWS.1010598.tif
QUADRANGLE_NAME: MILLER CREEK NW
QUADRANT: SW
WEST_LONGITUDE: -106 15 0.00000
EAST_LONGITUDE: -106 11 15.00000
NORTH_LATITUDE: 46 11 15.00000
SOUTH_LATITUDE: 46 7 30.00000
PRODUCTION_DATE: 1999 6 7
RASTER_ORDER: LEFT_RIGHT/TOP_BOTTOM
BAND_ORGANIZATION: SINGLE FILE
BAND_CONTENT: BLACK&WHITE
BAND_CONTENT: UNDEFINED
BAND_CONTENT: UNDEFINED
BITS_PER_PIXEL: 8
SAMPLES_AND_LINES: 5579 7622
HORIZONTAL_DATUM: NAD83
HORIZONTAL_COORDINATE_SYSTEM: UTM
COORDINATE_ZONE: 13
HORIZONTAL_UNITS: METERS
HORIZONTAL_RESOLUTION: 1.00000
SECONDARY_HORIZONTAL_DATUM: NAD27
XY_ORIGIN: 403083.00000 5115941.00000
SECONDARY_XY_ORIGIN: 403123.98700 5115722.25900
NATION: US
NATION: "SCIENCE
STATE: MT
NW_QUAD_CORNER_XY: 403537.37200 5115639.73900
NE_QUAD_CORNER_XY: 408360.47500 5115565.69600
SE_QUAD_CORNERY_XY: 408256.65600 5108621.38400
SW_QUAD_CORNER_XY: 403428.08700 5108695.43400
SECONDARY_NW_QUAD_XY: 403534.45000 5115421.66900
SECONDARY_NE_QUAD_XY: 408357.69900 5115347.62300
SECONDARY_SE_QUAD_XY: 408253.88000 5108403.35200
SECONDARY_SW_QUAD_XY: 403425.16600 5108477.40400
RMSE_XY: 1.70000
IMAGE_SOURCE: BLACK AND WHITE FILM
SOURCE_IMAGE_ID: NAPP 9106 117
SOURCE_IMAGE_DATE: 1996 08 07
SOURCE_IMAGE_ID: NAPP 9106 116
SOURCE_IMAGE_DATE: 1996 08 07
SOURCE_DEM_DATE: 1968 00 00
AGENCY: WESTERN MAPPING CENTER (WMC)
PRODUCER: UNDEFINED
PRODUCTION_SYSTEM: GIS/MAGIC
COMPRESSION: UNDEFINED
STANDARD_VERSION: 1996 12
METADATA_DATE: 1999 06 07
DATA_FILE_SIZE: 42528717
BYTE_COUNT: 5579
