FILENAME: O4610654.NES.1010591.tif
QUADRANGLE_NAME: INDIAN CREEK
QUADRANT: NE
WEST_LONGITUDE: -106 18 45.00000
EAST_LONGITUDE: -106 15 0.00000
NORTH_LATITUDE: 46 15 0.00000
SOUTH_LATITUDE: 46 11 15.00000
PRODUCTION_DATE: 1999 6 7
RASTER_ORDER: LEFT_RIGHT/TOP_BOTTOM
BAND_ORGANIZATION: SINGLE FILE
BAND_CONTENT: BLACK&WHITE
BAND_CONTENT: UNDEFINED
BAND_CONTENT: UNDEFINED
BITS_PER_PIXEL: 8
SAMPLES_AND_LINES: 5579 7626
HORIZONTAL_DATUM: NAD83
HORIZONTAL_COORDINATE_SYSTEM: UTM
COORDINATE_ZONE: 13
HORIZONTAL_UNITS: METERS
HORIZONTAL_RESOLUTION: 1.00000
SECONDARY_HORIZONTAL_DATUM: NAD27
XY_ORIGIN: 398369.00000 5122963.00000
SECONDARY_XY_ORIGIN: 398410.11100 5122744.25600
NATION: US
NATION: "SCIENCE
STATE: MT
NW_QUAD_CORNER_XY: 398829.14500 5122661.95100
NE_QUAD_CORNER_XY: 403646.77200 5122584.11700
SE_QUAD_CORNERY_XY: 403537.37200 5115639.73900
SW_QUAD_CORNER_XY: 398714.27300 5115717.58100
SECONDARY_NW_QUAD_XY: 398826.07700 5122443.84400
SECONDARY_NE_QUAD_XY: 403643.85000 5122366.00700
SECONDARY_SE_QUAD_XY: 403534.45000 5115421.66900
SECONDARY_SW_QUAD_XY: 398711.20500 5115499.51300
RMSE_XY: 1.10000
IMAGE_SOURCE: BLACK AND WHITE FILM
SOURCE_IMAGE_ID: NAPP 9097 044
SOURCE_IMAGE_DATE: 1996 07 12
SOURCE_IMAGE_ID: NAPP 9106 116
SOURCE_IMAGE_DATE: 1996 08 07
SOURCE_DEM_DATE: 1970 00 00
AGENCY: WESTERN MAPPING CENTER (WMC)
PRODUCER: UNDEFINED
PRODUCTION_SYSTEM: GIS/MAGIC
COMPRESSION: UNDEFINED
STANDARD_VERSION: 1996 12
METADATA_DATE: 1999 06 07
DATA_FILE_SIZE: 42551033
BYTE_COUNT: 5579
