FILENAME: O4610651.SWS.1010582.tif
QUADRANGLE_NAME: SMITH CREEK
QUADRANT: SW
WEST_LONGITUDE: -106 45 0.00000
EAST_LONGITUDE: -106 41 15.00000
NORTH_LATITUDE: 46 11 15.00000
SOUTH_LATITUDE: 46 7 30.00000
PRODUCTION_DATE: 1999 5 27
RASTER_ORDER: LEFT_RIGHT/TOP_BOTTOM
BAND_ORGANIZATION: SINGLE FILE
BAND_CONTENT: BLACK&WHITE
BAND_CONTENT: UNDEFINED
BAND_CONTENT: UNDEFINED
BITS_PER_PIXEL: 8
SAMPLES_AND_LINES: 5624 7652
HORIZONTAL_DATUM: NAD83
HORIZONTAL_COORDINATE_SYSTEM: UTM
COORDINATE_ZONE: 13
HORIZONTAL_UNITS: METERS
HORIZONTAL_RESOLUTION: 1.00000
SECONDARY_HORIZONTAL_DATUM: NAD27
XY_ORIGIN: 364453.00000 5116670.00000
SECONDARY_XY_ORIGIN: 364494.65200 5116451.69100
NATION: US
NATION: "SCIENCE
STATE: MT
NW_QUAD_CORNER_XY: 364952.73300 5116368.84000
NE_QUAD_CORNER_XY: 369775.79200 5116264.40500
SE_QUAD_CORNERY_XY: 369628.24000 5109320.15300
SW_QUAD_CORNER_XY: 364799.71200 5109424.59700
SECONDARY_NW_QUAD_XY: 364948.64200 5116150.79100
SECONDARY_NE_QUAD_XY: 369771.84800 5116046.35300
SECONDARY_SE_QUAD_XY: 369624.29600 5109102.14100
SECONDARY_SW_QUAD_XY: 364795.62200 5109206.58800
RMSE_XY: 2.30000
IMAGE_SOURCE: BLACK AND WHITE FILM
SOURCE_IMAGE_ID: NAPP 9115 140
SOURCE_IMAGE_DATE: 1996 09 10
SOURCE_IMAGE_ID: NAPP 9109 004
SOURCE_IMAGE_DATE: 1996 08 11
SOURCE_DEM_DATE: 1970 00 00
AGENCY: WESTERN MAPPING CENTER (WMC)
PRODUCER: UNDEFINED
PRODUCTION_SYSTEM: GIS/MAGIC
COMPRESSION: UNDEFINED
STANDARD_VERSION: 1996 12
METADATA_DATE: 1999 06 07
DATA_FILE_SIZE: 43040472
BYTE_COUNT: 5624
