FILENAME: O4610650.NES.1010571.tif
QUADRANGLE_NAME: GRIFFIN COULEE NE
QUADRANT: NE
WEST_LONGITUDE: -106 48 45.00000
EAST_LONGITUDE: -106 45 0.00000
NORTH_LATITUDE: 46 15 0.00000
SOUTH_LATITUDE: 46 11 15.00000
PRODUCTION_DATE: 1999 5 26
RASTER_ORDER: LEFT_RIGHT/TOP_BOTTOM
BAND_ORGANIZATION: SINGLE FILE
BAND_CONTENT: BLACK&WHITE
BAND_CONTENT: UNDEFINED
BAND_CONTENT: UNDEFINED
BITS_PER_PIXEL: 8
SAMPLES_AND_LINES: 5625 7656
HORIZONTAL_DATUM: NAD83
HORIZONTAL_COORDINATE_SYSTEM: UTM
COORDINATE_ZONE: 13
HORIZONTAL_UNITS: METERS
HORIZONTAL_RESOLUTION: 1.00000
SECONDARY_HORIZONTAL_DATUM: NAD27
XY_ORIGIN: 359782.00000 5123722.00000
SECONDARY_XY_ORIGIN: 359823.76600 5123503.70200
NATION: US
NATION: "SCIENCE
STATE: MT
NW_QUAD_CORNER_XY: 360288.33700 5123421.37700
NE_QUAD_CORNER_XY: 365105.91500 5123313.15200
SE_QUAD_CORNERY_XY: 364952.73300 5116368.84000
SW_QUAD_CORNER_XY: 360129.68000 5116477.07500
SECONDARY_NW_QUAD_XY: 360284.09900 5123203.29300
SECONDARY_NE_QUAD_XY: 365101.82400 5123095.06400
SECONDARY_SE_QUAD_XY: 364948.64200 5116150.79100
SECONDARY_SW_QUAD_XY: 360125.44300 5116259.03000
RMSE_XY: 1.00000
IMAGE_SOURCE: BLACK AND WHITE FILM
SOURCE_IMAGE_ID: NAPP 9109 006
SOURCE_IMAGE_DATE: 1996 08 11
SOURCE_IMAGE_ID: NAPP 10723 013
SOURCE_IMAGE_DATE: 1997 08 28
SOURCE_IMAGE_ID: NAPP 9109 004
SOURCE_IMAGE_DATE: 1996 08 11
SOURCE_IMAGE_ID: NAPP 9109 007
SOURCE_IMAGE_DATE: 1996 08 11
SOURCE_DEM_DATE: 1970 00 00
AGENCY: WESTERN MAPPING CENTER (WMC)
PRODUCER: UNDEFINED
PRODUCTION_SYSTEM: GIS/MAGIC
COMPRESSION: UNDEFINED
STANDARD_VERSION: 1996 12
METADATA_DATE: 1999 06 07
DATA_FILE_SIZE: 43070625
BYTE_COUNT: 5625
