FILENAME: O4610649.SES.1010569.tif
QUADRANGLE_NAME: GRIFFIN COULEE NW
QUADRANT: SE
WEST_LONGITUDE: -106 56 15.00000
EAST_LONGITUDE: -106 52 30.00000
NORTH_LATITUDE: 46 11 15.00000
SOUTH_LATITUDE: 46 7 30.00000
PRODUCTION_DATE: 1999 5 25
RASTER_ORDER: LEFT_RIGHT/TOP_BOTTOM
BAND_ORGANIZATION: SINGLE FILE
BAND_CONTENT: BLACK&WHITE
BAND_CONTENT: UNDEFINED
BAND_CONTENT: UNDEFINED
BITS_PER_PIXEL: 8
SAMPLES_AND_LINES: 5642 7664
HORIZONTAL_DATUM: NAD83
HORIZONTAL_COORDINATE_SYSTEM: UTM
COORDINATE_ZONE: 13
HORIZONTAL_UNITS: METERS
HORIZONTAL_RESOLUTION: 1.00000
SECONDARY_HORIZONTAL_DATUM: NAD27
XY_ORIGIN: 349966.00000 5117006.00000
SECONDARY_XY_ORIGIN: 350007.92700 5116787.88100
NATION: US
NATION: "SCIENCE
STATE: MT
NW_QUAD_CORNER_XY: 350483.59400 5116704.94500
NE_QUAD_CORNER_XY: 355306.63300 5116589.11000
SE_QUAD_CORNERY_XY: 355142.67500 5109644.88600
SW_QUAD_CORNER_XY: 350314.16700 5109760.73100
SECONDARY_NW_QUAD_XY: 350479.06500 5116486.90700
SECONDARY_NE_QUAD_XY: 355302.25000 5116371.06800
SECONDARY_SE_QUAD_XY: 355138.29300 5109426.88400
SECONDARY_SW_QUAD_XY: 350309.63800 5109542.73200
RMSE_XY: 1.10000
IMAGE_SOURCE: BLACK AND WHITE FILM
SOURCE_IMAGE_ID: NAPP 10764 052
SOURCE_IMAGE_DATE: 1997 09 20
SOURCE_IMAGE_ID: NAPP 9099 051
SOURCE_IMAGE_DATE: 1996 07 14
SOURCE_IMAGE_ID: NAPP 9085 153
SOURCE_IMAGE_DATE: 1996 06 13
SOURCE_IMAGE_ID: NAPP 10764 050
SOURCE_IMAGE_DATE: 1997 09 20
SOURCE_IMAGE_ID: NAPP 10723 011
SOURCE_IMAGE_DATE: 1997 08 28
SOURCE_DEM_DATE: 1970 00 00
AGENCY: WESTERN MAPPING CENTER (WMC)
PRODUCER: UNDEFINED
PRODUCTION_SYSTEM: GIS/MAGIC
COMPRESSION: UNDEFINED
STANDARD_VERSION: 1996 12
METADATA_DATE: 1999 06 07
DATA_FILE_SIZE: 43245930
BYTE_COUNT: 5642
