FILENAME: O4610642.SES.1008646.tif
QUADRANGLE_NAME: NICHOLS
QUADRANT: SE
WEST_LONGITUDE: -106 48 45.00000
EAST_LONGITUDE: -106 45 0.00000
NORTH_LATITUDE: 46 18 45.00000
SOUTH_LATITUDE: 46 15 0.00000
PRODUCTION_DATE: 1999 5 14
RASTER_ORDER: LEFT_RIGHT/TOP_BOTTOM
BAND_ORGANIZATION: SINGLE FILE
BAND_CONTENT: BLACK&WHITE
BAND_CONTENT: UNDEFINED
BAND_CONTENT: UNDEFINED
BITS_PER_PIXEL: 8
SAMPLES_AND_LINES: 5620 7655
HORIZONTAL_DATUM: NAD83
HORIZONTAL_COORDINATE_SYSTEM: UTM
COORDINATE_ZONE: 13
HORIZONTAL_UNITS: METERS
HORIZONTAL_RESOLUTION: 1.00000
SECONDARY_HORIZONTAL_DATUM: NAD27
XY_ORIGIN: 359941.00000 5130666.00000
SECONDARY_XY_ORIGIN: 359982.82100 5130447.63600
NATION: US
NATION: "SCIENCE
STATE: MT
NW_QUAD_CORNER_XY: 360447.16100 5130365.74800
NE_QUAD_CORNER_XY: 365259.26000 5130257.53300
SE_QUAD_CORNERY_XY: 365105.91500 5123313.15200
SW_QUAD_CORNER_XY: 360288.33700 5123421.37700
SECONDARY_NW_QUAD_XY: 360442.92200 5130147.62600
SECONDARY_NE_QUAD_XY: 365255.16700 5130039.40800
SECONDARY_SE_QUAD_XY: 365101.82400 5123095.06400
SECONDARY_SW_QUAD_XY: 360284.09900 5123203.29300
RMSE_XY: 1.00000
IMAGE_SOURCE: BLACK AND WHITE FILM
SOURCE_IMAGE_ID: NAPP 9111 246
SOURCE_IMAGE_DATE: 1996 08 11
SOURCE_IMAGE_ID: NAPP 10723 014
SOURCE_IMAGE_DATE: 1997 08 28
SOURCE_IMAGE_ID: NAPP 10723 015
SOURCE_IMAGE_DATE: 1997 08 28
SOURCE_IMAGE_ID: NAPP 9109 006
SOURCE_IMAGE_DATE: 1996 08 11
SOURCE_IMAGE_ID: NAPP 9109 007
SOURCE_IMAGE_DATE: 1996 08 11
SOURCE_DEM_DATE: 1966 00 00
AGENCY: WESTERN MAPPING CENTER (WMC)
PRODUCER: UNDEFINED
PRODUCTION_SYSTEM: GIS/MAGIC
COMPRESSION: UNDEFINED
STANDARD_VERSION: 1996 12
METADATA_DATE: 1999 05 24
DATA_FILE_SIZE: 43026720
BYTE_COUNT: 5620
