FILENAME: O4610638.SES.1008348.tif
QUADRANGLE_NAME: SAND BUTTES
QUADRANT: SE
WEST_LONGITUDE: -106 18 45.00000
EAST_LONGITUDE: -106 15 0.00000
NORTH_LATITUDE: 46 26 15.00000
SOUTH_LATITUDE: 46 22 30.00000
PRODUCTION_DATE: 1999 5 11
RASTER_ORDER: LEFT_RIGHT/TOP_BOTTOM
BAND_ORGANIZATION: SINGLE FILE
BAND_CONTENT: BLACK&WHITE
BAND_CONTENT: UNDEFINED
BAND_CONTENT: UNDEFINED
BITS_PER_PIXEL: 8
SAMPLES_AND_LINES: 5564 7626
HORIZONTAL_DATUM: NAD83
HORIZONTAL_COORDINATE_SYSTEM: UTM
COORDINATE_ZONE: 13
HORIZONTAL_UNITS: METERS
HORIZONTAL_RESOLUTION: 1.00000
SECONDARY_HORIZONTAL_DATUM: NAD27
XY_ORIGIN: 398713.00000 5143797.00000
SECONDARY_XY_ORIGIN: 398754.27900 5143577.97800
NATION: US
NATION: "SCIENCE
STATE: MT
NW_QUAD_CORNER_XY: 399174.48900 5143495.49700
NE_QUAD_CORNER_XY: 403975.66600 5143417.68600
SE_QUAD_CORNERY_XY: 403865.91900 5136473.09000
SW_QUAD_CORNER_XY: 399059.25300 5136550.91000
SECONDARY_NW_QUAD_XY: 399171.41800 5143277.27800
SECONDARY_NE_QUAD_XY: 403972.74100 5143199.46400
SECONDARY_SE_QUAD_XY: 403862.99600 5136254.90500
SECONDARY_SW_QUAD_XY: 399056.18400 5136332.72700
RMSE_XY: 1.10000
IMAGE_SOURCE: BLACK AND WHITE FILM
SOURCE_IMAGE_ID: NAPP 9106 120
SOURCE_IMAGE_DATE: 1996 08 07
SOURCE_DEM_DATE: 1966 00 00
AGENCY: WESTERN MAPPING CENTER (WMC)
PRODUCER: UNDEFINED
PRODUCTION_SYSTEM: GIS/MAGIC
COMPRESSION: UNDEFINED
STANDARD_VERSION: 1996 12
METADATA_DATE: 1999 06 02
DATA_FILE_SIZE: 42436628
BYTE_COUNT: 5564
