FILENAME: O4610637.SES.1008312.tif
QUADRANGLE_NAME: BOX CANYON COULEE
QUADRANT: SE
WEST_LONGITUDE: -106 26 15.00000
EAST_LONGITUDE: -106 22 30.00000
NORTH_LATITUDE: 46 26 15.00000
SOUTH_LATITUDE: 46 22 30.00000
PRODUCTION_DATE: 1999 5 11
RASTER_ORDER: LEFT_RIGHT/TOP_BOTTOM
BAND_ORGANIZATION: SINGLE FILE
BAND_CONTENT: BLACK&WHITE
BAND_CONTENT: UNDEFINED
BAND_CONTENT: UNDEFINED
BITS_PER_PIXEL: 8
SAMPLES_AND_LINES: 5575 7634
HORIZONTAL_DATUM: NAD83
HORIZONTAL_COORDINATE_SYSTEM: UTM
COORDINATE_ZONE: 13
HORIZONTAL_UNITS: METERS
HORIZONTAL_RESOLUTION: 1.00000
SECONDARY_HORIZONTAL_DATUM: NAD27
XY_ORIGIN: 389100.00000 5143964.00000
SECONDARY_XY_ORIGIN: 389141.38400 5143745.04900
NATION: US
NATION: "SCIENCE
STATE: MT
NW_QUAD_CORNER_XY: 389572.15300 5143662.51100
NE_QUAD_CORNER_XY: 394373.31800 5143577.10600
SE_QUAD_CORNERY_XY: 394252.59300 5136632.52700
SW_QUAD_CORNER_XY: 389445.93900 5136717.94100
SECONDARY_NW_QUAD_XY: 389568.79000 5143444.29700
SECONDARY_NE_QUAD_XY: 394370.10100 5143358.88900
SECONDARY_SE_QUAD_XY: 394249.37700 5136414.34700
SECONDARY_SW_QUAD_XY: 389442.57700 5136499.76400
RMSE_XY: 1.90000
IMAGE_SOURCE: BLACK AND WHITE FILM
SOURCE_IMAGE_ID: NAPP 9122 042
SOURCE_IMAGE_DATE: 1996 09 11
SOURCE_IMAGE_ID: NAPP 9106 306
SOURCE_IMAGE_DATE: 1996 08 07
SOURCE_IMAGE_ID: NAPP 9122 044
SOURCE_IMAGE_DATE: 1996 09 11
SOURCE_DEM_DATE: 1966 00 00
AGENCY: WESTERN MAPPING CENTER (WMC)
PRODUCER: UNDEFINED
PRODUCTION_SYSTEM: GIS/MAGIC
COMPRESSION: UNDEFINED
STANDARD_VERSION: 1996 12
METADATA_DATE: 1999 06 02
DATA_FILE_SIZE: 42565125
BYTE_COUNT: 5575
