FILENAME: O4610635.NES.1008664.tif
QUADRANGLE_NAME: BLACK COULEE
QUADRANT: NE
WEST_LONGITUDE: -106 41 15.00000
EAST_LONGITUDE: -106 37 30.00000
NORTH_LATITUDE: 46 30 0.00000
SOUTH_LATITUDE: 46 26 15.00000
PRODUCTION_DATE: 1999 5 10
RASTER_ORDER: LEFT_RIGHT/TOP_BOTTOM
BAND_ORGANIZATION: SINGLE FILE
BAND_CONTENT: BLACK&WHITE
BAND_CONTENT: UNDEFINED
BAND_CONTENT: UNDEFINED
BITS_PER_PIXEL: 8
SAMPLES_AND_LINES: 5593 7649
HORIZONTAL_DATUM: NAD83
HORIZONTAL_COORDINATE_SYSTEM: UTM
COORDINATE_ZONE: 13
HORIZONTAL_UNITS: METERS
HORIZONTAL_RESOLUTION: 1.00000
SECONDARY_HORIZONTAL_DATUM: NAD27
XY_ORIGIN: 370020.00000 5151288.00000
SECONDARY_XY_ORIGIN: 370061.77500 5151069.26800
NATION: US
NATION: "SCIENCE
STATE: MT
NW_QUAD_CORNER_XY: 370515.89300 5150986.70900
NE_QUAD_CORNER_XY: 375311.53300 5150886.12400
SE_QUAD_CORNERY_XY: 375168.69900 5143941.51300
SW_QUAD_CORNER_XY: 370367.56200 5144042.10900
SECONDARY_NW_QUAD_XY: 370511.94400 5150768.47100
SECONDARY_NE_QUAD_XY: 375307.73100 5150667.88300
SECONDARY_SE_QUAD_XY: 375164.89700 5143723.30700
SECONDARY_SW_QUAD_XY: 370363.61400 5143823.90600
RMSE_XY: 1.20000
IMAGE_SOURCE: BLACK AND WHITE FILM
SOURCE_IMAGE_ID: NAPP 9111 075
SOURCE_IMAGE_DATE: 1996 08 11
SOURCE_IMAGE_ID: NAPP 9111 074
SOURCE_IMAGE_DATE: 1996 08 11
SOURCE_DEM_DATE: 1966 00 00
AGENCY: WESTERN MAPPING CENTER (WMC)
PRODUCER: UNDEFINED
PRODUCTION_SYSTEM: GIS/MAGIC
COMPRESSION: UNDEFINED
STANDARD_VERSION: 1996 12
METADATA_DATE: 1999 05 24
DATA_FILE_SIZE: 42786450
BYTE_COUNT: 5593
