FILENAME: O4610634.NWS.1008657.tif
QUADRANGLE_NAME: FINCH NE
QUADRANT: NW
WEST_LONGITUDE: -106 52 30.00000
EAST_LONGITUDE: -106 48 45.00000
NORTH_LATITUDE: 46 30 0.00000
SOUTH_LATITUDE: 46 26 15.00000
PRODUCTION_DATE: 1999 5 10
RASTER_ORDER: LEFT_RIGHT/TOP_BOTTOM
BAND_ORGANIZATION: SINGLE FILE
BAND_CONTENT: BLACK&WHITE
BAND_CONTENT: UNDEFINED
BAND_CONTENT: UNDEFINED
BITS_PER_PIXEL: 8
SAMPLES_AND_LINES: 5610 7660
HORIZONTAL_DATUM: NAD83
HORIZONTAL_COORDINATE_SYSTEM: UTM
COORDINATE_ZONE: 13
HORIZONTAL_UNITS: METERS
HORIZONTAL_RESOLUTION: 1.00000
SECONDARY_HORIZONTAL_DATUM: NAD27
XY_ORIGIN: 355616.00000 5151612.00000
SECONDARY_XY_ORIGIN: 355658.09800 5151393.53900
NATION: US
NATION: "SCIENCE
STATE: MT
NW_QUAD_CORNER_XY: 356129.01900 5151311.25200
NE_QUAD_CORNER_XY: 360924.63500 5151199.27300
SE_QUAD_CORNERY_XY: 360765.31000 5144254.69600
SW_QUAD_CORNER_XY: 355964.19700 5144366.68700
SECONDARY_NW_QUAD_XY: 356124.63200 5151093.02400
SECONDARY_NE_QUAD_XY: 360920.39400 5150981.04100
SECONDARY_SE_QUAD_XY: 360761.07000 5144036.50000
SECONDARY_SW_QUAD_XY: 355959.81000 5144148.49400
RMSE_XY: 1.60000
IMAGE_SOURCE: BLACK AND WHITE FILM
SOURCE_IMAGE_ID: NAPP 10723 021
SOURCE_IMAGE_DATE: 1997 08 28
SOURCE_IMAGE_ID: NAPP 10723 022
SOURCE_IMAGE_DATE: 1997 08 28
SOURCE_DEM_DATE: 1966 00 00
AGENCY: WESTERN MAPPING CENTER (WMC)
PRODUCER: UNDEFINED
PRODUCTION_SYSTEM: GIS/MAGIC
COMPRESSION: UNDEFINED
STANDARD_VERSION: 1996 12
METADATA_DATE: 1999 05 24
DATA_FILE_SIZE: 42978210
BYTE_COUNT: 5610
