FILENAME: O4610632.SWS.1009143.tif
QUADRANGLE_NAME: N BAR COULEE
QUADRANT: SW
WEST_LONGITUDE: -106 7 30.00000
EAST_LONGITUDE: -106 3 45.00000
NORTH_LATITUDE: 46 33 45.00000
SOUTH_LATITUDE: 46 30 0.00000
PRODUCTION_DATE: 1999 5 20
RASTER_ORDER: LEFT_RIGHT/TOP_BOTTOM
BAND_ORGANIZATION: SINGLE FILE
BAND_CONTENT: BLACK&WHITE
BAND_CONTENT: UNDEFINED
BAND_CONTENT: UNDEFINED
BITS_PER_PIXEL: 8
SAMPLES_AND_LINES: 5536 7615
HORIZONTAL_DATUM: NAD83
HORIZONTAL_COORDINATE_SYSTEM: UTM
COORDINATE_ZONE: 13
HORIZONTAL_UNITS: METERS
HORIZONTAL_RESOLUTION: 1.00000
SECONDARY_HORIZONTAL_DATUM: NAD27
XY_ORIGIN: 413332.00000 5157464.00000
SECONDARY_XY_ORIGIN: 413373.26700 5157244.81600
NATION: US
NATION: "SCIENCE
STATE: MT
NW_QUAD_CORNER_XY: 413775.88400 5157162.89400
NE_QUAD_CORNER_XY: 418566.08300 5157096.48700
SE_QUAD_CORNERY_XY: 418472.60700 5150151.72200
SW_QUAD_CORNER_XY: 413676.90800 5150218.13700
SECONDARY_NW_QUAD_XY: 413773.25100 5156944.59800
SECONDARY_NE_QUAD_XY: 418563.59600 5156878.18900
SECONDARY_SE_QUAD_XY: 418470.12100 5149933.45900
SECONDARY_SW_QUAD_XY: 413674.27600 5149999.87500
RMSE_XY: 1.50000
IMAGE_SOURCE: BLACK AND WHITE FILM
SOURCE_IMAGE_ID: NAPP 9090 055
SOURCE_IMAGE_DATE: 1996 07 07
SOURCE_DEM_DATE: 1968 00 00
AGENCY: WESTERN MAPPING CENTER (WMC)
PRODUCER: UNDEFINED
PRODUCTION_SYSTEM: GIS/MAGIC
COMPRESSION: UNDEFINED
STANDARD_VERSION: 1996 12
METADATA_DATE: 1999 06 02
DATA_FILE_SIZE: 42162176
BYTE_COUNT: 5536
