FILENAME: O4610627.NWS.1008255.tif
QUADRANGLE_NAME: ROUGH CREEK SW
QUADRANT: NW
WEST_LONGITUDE: -106 45 0.00000
EAST_LONGITUDE: -106 41 15.00000
NORTH_LATITUDE: 46 37 30.00000
SOUTH_LATITUDE: 46 33 45.00000
PRODUCTION_DATE: 1999 5 20
RASTER_ORDER: LEFT_RIGHT/TOP_BOTTOM
BAND_ORGANIZATION: SINGLE FILE
BAND_CONTENT: BLACK&WHITE
BAND_CONTENT: UNDEFINED
BAND_CONTENT: UNDEFINED
BITS_PER_PIXEL: 8
SAMPLES_AND_LINES: 5588 7653
HORIZONTAL_DATUM: NAD83
HORIZONTAL_COORDINATE_SYSTEM: UTM
COORDINATE_ZONE: 13
HORIZONTAL_UNITS: METERS
HORIZONTAL_RESOLUTION: 1.00000
SECONDARY_HORIZONTAL_DATUM: NAD27
XY_ORIGIN: 365527.00000 5165282.00000
SECONDARY_XY_ORIGIN: 365568.98100 5165063.13400
NATION: US
NATION: "SCIENCE
STATE: MT
NW_QUAD_CORNER_XY: 366028.39800 5164980.47700
NE_QUAD_CORNER_XY: 370813.02000 5164876.11800
SE_QUAD_CORNERY_XY: 370664.37900 5157931.37900
SW_QUAD_CORNER_XY: 365874.24900 5158035.75000
SECONDARY_NW_QUAD_XY: 366024.30200 5164762.17300
SECONDARY_NE_QUAD_XY: 370809.07000 5164657.81200
SECONDARY_SE_QUAD_XY: 370660.42900 5157713.10600
SECONDARY_SW_QUAD_XY: 365870.15300 5157817.48000
RMSE_XY: 0.80000
IMAGE_SOURCE: BLACK AND WHITE FILM
SOURCE_IMAGE_ID: NAPP 9111 236
SOURCE_IMAGE_DATE: 1996 08 11
SOURCE_IMAGE_ID: NAPP 9109 015
SOURCE_IMAGE_DATE: 1996 08 11
SOURCE_IMAGE_ID: NAPP 9111 238
SOURCE_IMAGE_DATE: 1996 08 11
SOURCE_IMAGE_ID: NAPP 9111 234
SOURCE_IMAGE_DATE: 1996 08 11
SOURCE_DEM_DATE: 1968 00 00
AGENCY: WESTERN MAPPING CENTER (WMC)
PRODUCER: UNDEFINED
PRODUCTION_SYSTEM: GIS/MAGIC
COMPRESSION: UNDEFINED
STANDARD_VERSION: 1996 12
METADATA_DATE: 1999 06 02
DATA_FILE_SIZE: 42770552
BYTE_COUNT: 5588
