FILENAME: O4610627.SES.1008256.tif
QUADRANGLE_NAME: ROUGH CREEK SW
QUADRANT: SE
WEST_LONGITUDE: -106 41 15.00000
EAST_LONGITUDE: -106 37 30.00000
NORTH_LATITUDE: 46 33 45.00000
SOUTH_LATITUDE: 46 30 0.00000
PRODUCTION_DATE: 1999 5 20
RASTER_ORDER: LEFT_RIGHT/TOP_BOTTOM
BAND_ORGANIZATION: SINGLE FILE
BAND_CONTENT: BLACK&WHITE
BAND_CONTENT: UNDEFINED
BAND_CONTENT: UNDEFINED
BITS_PER_PIXEL: 8
SAMPLES_AND_LINES: 5587 7648
HORIZONTAL_DATUM: NAD83
HORIZONTAL_COORDINATE_SYSTEM: UTM
COORDINATE_ZONE: 13
HORIZONTAL_UNITS: METERS
HORIZONTAL_RESOLUTION: 1.00000
SECONDARY_HORIZONTAL_DATUM: NAD27
XY_ORIGIN: 370169.00000 5158232.00000
SECONDARY_XY_ORIGIN: 370210.81900 5158013.17700
NATION: US
NATION: "SCIENCE
STATE: MT
NW_QUAD_CORNER_XY: 370664.37900 5157931.37900
NE_QUAD_CORNER_XY: 375454.51700 5157830.80500
SE_QUAD_CORNERY_XY: 375311.53300 5150886.12400
SW_QUAD_CORNER_XY: 370515.89300 5150986.70900
SECONDARY_NW_QUAD_XY: 370660.42900 5157713.10600
SECONDARY_NE_QUAD_XY: 375450.71400 5157612.52900
SECONDARY_SE_QUAD_XY: 375307.73100 5150667.88300
SECONDARY_SW_QUAD_XY: 370511.94400 5150768.47100
RMSE_XY: 0.90000
IMAGE_SOURCE: BLACK AND WHITE FILM
SOURCE_IMAGE_ID: NAPP 9111 077
SOURCE_IMAGE_DATE: 1996 08 11
SOURCE_IMAGE_ID: NAPP 9111 238
SOURCE_IMAGE_DATE: 1996 08 11
SOURCE_IMAGE_ID: NAPP 9111 075
SOURCE_IMAGE_DATE: 1996 08 11
SOURCE_DEM_DATE: 1968 00 00
AGENCY: WESTERN MAPPING CENTER (WMC)
PRODUCER: UNDEFINED
PRODUCTION_SYSTEM: GIS/MAGIC
COMPRESSION: UNDEFINED
STANDARD_VERSION: 1996 12
METADATA_DATE: 1999 06 02
DATA_FILE_SIZE: 42734963
BYTE_COUNT: 5587
