FILENAME: O4610626.SES.1008252.tif
QUADRANGLE_NAME: FLAT BOTTOM COULEE SE
QUADRANT: SE
WEST_LONGITUDE: -106 48 45.00000
EAST_LONGITUDE: -106 45 0.00000
NORTH_LATITUDE: 46 33 45.00000
SOUTH_LATITUDE: 46 30 0.00000
PRODUCTION_DATE: 1999 5 20
RASTER_ORDER: LEFT_RIGHT/TOP_BOTTOM
BAND_ORGANIZATION: SINGLE FILE
BAND_CONTENT: BLACK&WHITE
BAND_CONTENT: UNDEFINED
BAND_CONTENT: UNDEFINED
BITS_PER_PIXEL: 8
SAMPLES_AND_LINES: 5599 7656
HORIZONTAL_DATUM: NAD83
HORIZONTAL_COORDINATE_SYSTEM: UTM
COORDINATE_ZONE: 13
HORIZONTAL_UNITS: METERS
HORIZONTAL_RESOLUTION: 1.00000
SECONDARY_HORIZONTAL_DATUM: NAD27
XY_ORIGIN: 360577.00000 5158445.00000
SECONDARY_XY_ORIGIN: 360619.04200 5158226.32600
NATION: US
NATION: "SCIENCE
STATE: MT
NW_QUAD_CORNER_XY: 361084.12700 5158143.91800
NE_QUAD_CORNER_XY: 365874.24900 5158035.75000
SE_QUAD_CORNERY_XY: 365720.26000 5151091.09200
SW_QUAD_CORNER_XY: 360924.63500 5151199.27300
SECONDARY_NW_QUAD_XY: 361079.88500 5157925.65200
SECONDARY_NE_QUAD_XY: 365870.15300 5157817.48000
SECONDARY_SE_QUAD_XY: 365716.16500 5150872.85700
SECONDARY_SW_QUAD_XY: 360920.39400 5150981.04100
RMSE_XY: 1.10000
IMAGE_SOURCE: BLACK AND WHITE FILM
SOURCE_IMAGE_ID: NAPP 9109 013
SOURCE_IMAGE_DATE: 1996 08 11
SOURCE_IMAGE_ID: NAPP 9109 015
SOURCE_IMAGE_DATE: 1996 08 11
SOURCE_IMAGE_ID: NAPP 9111 238
SOURCE_IMAGE_DATE: 1996 08 11
SOURCE_DEM_DATE: 1968 00 00
AGENCY: WESTERN MAPPING CENTER (WMC)
PRODUCER: UNDEFINED
PRODUCTION_SYSTEM: GIS/MAGIC
COMPRESSION: UNDEFINED
STANDARD_VERSION: 1996 12
METADATA_DATE: 1999 06 02
DATA_FILE_SIZE: 42871543
BYTE_COUNT: 5599
