FILENAME: O4610625.SES.1008240.tif
QUADRANGLE_NAME: FLAT BOTTOM COULEE SW
QUADRANT: SE
WEST_LONGITUDE: -106 56 15.00000
EAST_LONGITUDE: -106 52 30.00000
NORTH_LATITUDE: 46 33 45.00000
SOUTH_LATITUDE: 46 30 0.00000
PRODUCTION_DATE: 1999 5 20
RASTER_ORDER: LEFT_RIGHT/TOP_BOTTOM
BAND_ORGANIZATION: SINGLE FILE
BAND_CONTENT: BLACK&WHITE
BAND_CONTENT: UNDEFINED
BAND_CONTENT: UNDEFINED
BITS_PER_PIXEL: 8
SAMPLES_AND_LINES: 5611 7663
HORIZONTAL_DATUM: NAD83
HORIZONTAL_COORDINATE_SYSTEM: UTM
COORDINATE_ZONE: 13
HORIZONTAL_UNITS: METERS
HORIZONTAL_RESOLUTION: 1.00000
SECONDARY_HORIZONTAL_DATUM: NAD27
XY_ORIGIN: 350985.00000 5158672.00000
SECONDARY_XY_ORIGIN: 351027.26700 5158453.48400
NATION: US
NATION: "SCIENCE
STATE: MT
NW_QUAD_CORNER_XY: 351503.91000 5158371.64900
NE_QUAD_CORNER_XY: 356294.01400 5158255.88400
SE_QUAD_CORNERY_XY: 356129.01900 5151311.25200
SW_QUAD_CORNER_XY: 351333.41200 5151427.02900
SECONDARY_NW_QUAD_XY: 351499.37600 5158153.38900
SECONDARY_NE_QUAD_XY: 356289.62600 5158037.62200
SECONDARY_SE_QUAD_XY: 356124.63200 5151093.02400
SECONDARY_SW_QUAD_XY: 351328.87800 5151208.80500
RMSE_XY: 1.50000
IMAGE_SOURCE: BLACK AND WHITE FILM
SOURCE_IMAGE_ID: NAPP 9085 139
SOURCE_IMAGE_DATE: 1996 06 13
SOURCE_DEM_DATE: 1968 00 00
AGENCY: WESTERN MAPPING CENTER (WMC)
PRODUCER: UNDEFINED
PRODUCTION_SYSTEM: GIS/MAGIC
COMPRESSION: UNDEFINED
STANDARD_VERSION: 1996 12
METADATA_DATE: 1999 06 02
DATA_FILE_SIZE: 43002704
BYTE_COUNT: 5611
