FILENAME: O4610623.NWS.1009111.tif
QUADRANGLE_NAME: ANGELA
QUADRANT: NW
WEST_LONGITUDE: -106 15 0.00000
EAST_LONGITUDE: -106 11 15.00000
NORTH_LATITUDE: 46 45 0.00000
SOUTH_LATITUDE: 46 41 15.00000
PRODUCTION_DATE: 1999 5 18
RASTER_ORDER: LEFT_RIGHT/TOP_BOTTOM
BAND_ORGANIZATION: SINGLE FILE
BAND_CONTENT: BLACK&WHITE
BAND_CONTENT: UNDEFINED
BAND_CONTENT: UNDEFINED
BITS_PER_PIXEL: 8
SAMPLES_AND_LINES: 5531 7623
HORIZONTAL_DATUM: NAD83
HORIZONTAL_COORDINATE_SYSTEM: UTM
COORDINATE_ZONE: 13
HORIZONTAL_UNITS: METERS
HORIZONTAL_RESOLUTION: 1.00000
SECONDARY_HORIZONTAL_DATUM: NAD27
XY_ORIGIN: 404070.00000 5178443.00000
SECONDARY_XY_ORIGIN: 404111.44500 5178223.72100
NATION: US
NATION: "SCIENCE
STATE: MT
NW_QUAD_CORNER_XY: 404526.12100 5178141.75300
NE_QUAD_CORNER_XY: 409299.77300 5178067.78200
SE_QUAD_CORNERY_XY: 409194.97000 5171122.81400
SW_QUAD_CORNER_XY: 404415.80100 5171196.79400
SECONDARY_NW_QUAD_XY: 404523.19400 5177923.36200
SECONDARY_NE_QUAD_XY: 409296.99300 5177849.38900
SECONDARY_SE_QUAD_XY: 409192.19000 5170904.45300
SECONDARY_SW_QUAD_XY: 404412.87400 5170978.43500
RMSE_XY: 1.00000
IMAGE_SOURCE: BLACK AND WHITE FILM
SOURCE_IMAGE_ID: NAPP 9106 099
SOURCE_IMAGE_DATE: 1996 08 07
SOURCE_IMAGE_ID: NAPP 9106 097
SOURCE_IMAGE_DATE: 1996 08 07
SOURCE_DEM_DATE: 1968 00 00
AGENCY: WESTERN MAPPING CENTER (WMC)
PRODUCER: UNDEFINED
PRODUCTION_SYSTEM: GIS/MAGIC
COMPRESSION: UNDEFINED
STANDARD_VERSION: 1996 12
METADATA_DATE: 1999 06 02
DATA_FILE_SIZE: 42168344
BYTE_COUNT: 5531
