FILENAME: O4610622.NES.1009098.tif
QUADRANGLE_NAME: ALKALI CREEK
QUADRANT: NE
WEST_LONGITUDE: -106 18 45.00000
EAST_LONGITUDE: -106 15 0.00000
NORTH_LATITUDE: 46 45 0.00000
SOUTH_LATITUDE: 46 41 15.00000
PRODUCTION_DATE: 1999 5 18
RASTER_ORDER: LEFT_RIGHT/TOP_BOTTOM
BAND_ORGANIZATION: SINGLE FILE
BAND_CONTENT: BLACK&WHITE
BAND_CONTENT: UNDEFINED
BAND_CONTENT: UNDEFINED
BITS_PER_PIXEL: 8
SAMPLES_AND_LINES: 5537 7627
HORIZONTAL_DATUM: NAD83
HORIZONTAL_COORDINATE_SYSTEM: UTM
COORDINATE_ZONE: 13
HORIZONTAL_UNITS: METERS
HORIZONTAL_RESOLUTION: 1.00000
SECONDARY_HORIZONTAL_DATUM: NAD27
XY_ORIGIN: 399291.00000 5178521.00000
SECONDARY_XY_ORIGIN: 399332.47300 5178301.75000
NATION: US
NATION: "SCIENCE
STATE: MT
NW_QUAD_CORNER_XY: 399752.47600 5178219.51800
NE_QUAD_CORNER_XY: 404526.12100 5178141.75300
SE_QUAD_CORNERY_XY: 404415.80100 5171196.79400
SW_QUAD_CORNER_XY: 399636.63800 5171274.56900
SECONDARY_NW_QUAD_XY: 399749.40200 5178001.13000
SECONDARY_NE_QUAD_XY: 404523.19400 5177923.36200
SECONDARY_SE_QUAD_XY: 404412.87400 5170978.43500
SECONDARY_SW_QUAD_XY: 399633.56500 5171056.21300
RMSE_XY: 1.60000
IMAGE_SOURCE: BLACK AND WHITE FILM
SOURCE_IMAGE_ID: NAPP 9106 130
SOURCE_IMAGE_DATE: 1996 08 07
SOURCE_IMAGE_ID: NAPP 9106 197
SOURCE_IMAGE_DATE: 1996 08 07
SOURCE_DEM_DATE: 1968 00 00
AGENCY: WESTERN MAPPING CENTER (WMC)
PRODUCER: UNDEFINED
PRODUCTION_SYSTEM: GIS/MAGIC
COMPRESSION: UNDEFINED
STANDARD_VERSION: 1996 12
METADATA_DATE: 1999 06 02
DATA_FILE_SIZE: 42236236
BYTE_COUNT: 5537
