FILENAME: O4610621.NES.1008302.tif
QUADRANGLE_NAME: VAN BURTON CREEK
QUADRANT: NE
WEST_LONGITUDE: -106 26 15.00000
EAST_LONGITUDE: -106 22 30.00000
NORTH_LATITUDE: 46 45 0.00000
SOUTH_LATITUDE: 46 41 15.00000
PRODUCTION_DATE: 1999 5 18
RASTER_ORDER: LEFT_RIGHT/TOP_BOTTOM
BAND_ORGANIZATION: SINGLE FILE
BAND_CONTENT: BLACK&WHITE
BAND_CONTENT: UNDEFINED
BAND_CONTENT: UNDEFINED
BITS_PER_PIXEL: 8
SAMPLES_AND_LINES: 5548 7634
HORIZONTAL_DATUM: NAD83
HORIZONTAL_COORDINATE_SYSTEM: UTM
COORDINATE_ZONE: 13
HORIZONTAL_UNITS: METERS
HORIZONTAL_RESOLUTION: 1.00000
SECONDARY_HORIZONTAL_DATUM: NAD27
XY_ORIGIN: 389732.00000 5178688.00000
SECONDARY_XY_ORIGIN: 389773.52600 5178468.80100
NATION: US
NATION: "SCIENCE
STATE: MT
NW_QUAD_CORNER_XY: 390205.20700 5178386.43300
NE_QUAD_CORNER_XY: 394978.83800 5178301.07800
SE_QUAD_CORNERY_XY: 394857.48100 5171356.14000
SW_QUAD_CORNER_XY: 390078.33200 5171441.50600
SECONDARY_NW_QUAD_XY: 390201.84100 5178168.05000
SECONDARY_NE_QUAD_XY: 394975.61800 5178082.69200
SECONDARY_SE_QUAD_XY: 394854.26200 5171137.78600
SECONDARY_SW_QUAD_XY: 390074.96700 5171223.15500
RMSE_XY: 1.60000
IMAGE_SOURCE: BLACK AND WHITE FILM
SOURCE_IMAGE_ID: NAPP 9106 261
SOURCE_IMAGE_DATE: 1996 08 07
SOURCE_IMAGE_ID: NAPP 9106 296
SOURCE_IMAGE_DATE: 1996 08 07
SOURCE_IMAGE_ID: NAPP 9106 262
SOURCE_IMAGE_DATE: 1996 08 07
SOURCE_IMAGE_ID: NAPP 9106 263
SOURCE_IMAGE_DATE: 1996 08 07
SOURCE_DEM_DATE: 1968 00 00
AGENCY: WESTERN MAPPING CENTER (WMC)
PRODUCER: UNDEFINED
PRODUCTION_SYSTEM: GIS/MAGIC
COMPRESSION: UNDEFINED
STANDARD_VERSION: 1996 12
METADATA_DATE: 1999 06 02
DATA_FILE_SIZE: 42358980
BYTE_COUNT: 5548
