FILENAME: O4610615.SES.1009108.tif
QUADRANGLE_NAME: ROCK SPRINGS SCHOOL
QUADRANT: SE
WEST_LONGITUDE: -106 11 15.00000
EAST_LONGITUDE: -106 7 30.00000
NORTH_LATITUDE: 46 48 45.00000
SOUTH_LATITUDE: 46 45 0.00000
PRODUCTION_DATE: 1999 5 18
RASTER_ORDER: LEFT_RIGHT/TOP_BOTTOM
BAND_ORGANIZATION: SINGLE FILE
BAND_CONTENT: BLACK&WHITE
BAND_CONTENT: UNDEFINED
BAND_CONTENT: UNDEFINED
BITS_PER_PIXEL: 8
SAMPLES_AND_LINES: 5520 7619
HORIZONTAL_DATUM: NAD83
HORIZONTAL_COORDINATE_SYSTEM: UTM
COORDINATE_ZONE: 13
HORIZONTAL_UNITS: METERS
HORIZONTAL_RESOLUTION: 1.00000
SECONDARY_HORIZONTAL_DATUM: NAD27
XY_ORIGIN: 408954.00000 5185314.00000
SECONDARY_XY_ORIGIN: 408995.47800 5185094.69500
NATION: US
NATION: "SCIENCE
STATE: MT
NW_QUAD_CORNER_XY: 409404.68500 5185012.82300
NE_QUAD_CORNER_XY: 414172.82000 5184942.65500
SE_QUAD_CORNERY_XY: 414073.43200 5177997.60500
SW_QUAD_CORNER_XY: 409299.77300 5178067.78200
SECONDARY_NW_QUAD_XY: 409401.90400 5184794.39800
SECONDARY_NE_QUAD_XY: 414170.18600 5184724.22900
SECONDARY_SE_QUAD_XY: 414070.79700 5177779.21000
SECONDARY_SW_QUAD_XY: 409296.99300 5177849.38900
RMSE_XY: 2.60000
IMAGE_SOURCE: BLACK AND WHITE FILM
SOURCE_IMAGE_ID: NAPP 9106 036
SOURCE_IMAGE_DATE: 1996 08 07
SOURCE_IMAGE_ID: NAPP 9106 097
SOURCE_IMAGE_DATE: 1996 08 07
SOURCE_IMAGE_ID: NAPP 9106 034
SOURCE_IMAGE_DATE: 1996 08 07
SOURCE_IMAGE_ID: NAPP 9106 035
SOURCE_IMAGE_DATE: 1996 08 07
SOURCE_IMAGE_ID: NAPP 9106 038
SOURCE_IMAGE_DATE: 1996 08 07
SOURCE_DEM_DATE: 1997 01 01
AGENCY: WESTERN MAPPING CENTER (WMC)
PRODUCER: UNDEFINED
PRODUCTION_SYSTEM: GIS/MAGIC
COMPRESSION: UNDEFINED
STANDARD_VERSION: 1996 12
METADATA_DATE: 1999 06 02
DATA_FILE_SIZE: 42062400
BYTE_COUNT: 5520
