FILENAME: O4610613.NES.1008338.tif
QUADRANGLE_NAME: CLEAR WATER RESERVOIR
QUADRANT: NE
WEST_LONGITUDE: -106 26 15.00000
EAST_LONGITUDE: -106 22 30.00000
NORTH_LATITUDE: 46 52 30.00000
SOUTH_LATITUDE: 46 48 45.00000
PRODUCTION_DATE: 1999 5 14
RASTER_ORDER: LEFT_RIGHT/TOP_BOTTOM
BAND_ORGANIZATION: SINGLE FILE
BAND_CONTENT: BLACK&WHITE
BAND_CONTENT: UNDEFINED
BAND_CONTENT: UNDEFINED
BITS_PER_PIXEL: 8
SAMPLES_AND_LINES: 5537 7634
HORIZONTAL_DATUM: NAD83
HORIZONTAL_COORDINATE_SYSTEM: UTM
COORDINATE_ZONE: 13
HORIZONTAL_UNITS: METERS
HORIZONTAL_RESOLUTION: 1.00000
SECONDARY_HORIZONTAL_DATUM: NAD27
XY_ORIGIN: 389986.00000 5192578.00000
SECONDARY_XY_ORIGIN: 390027.59700 5192358.73900
NATION: US
NATION: "SCIENCE
STATE: MT
NW_QUAD_CORNER_XY: 390459.35000 5192276.50200
NE_QUAD_CORNER_XY: 395221.92700 5192191.17000
SE_QUAD_CORNERY_XY: 395100.32000 5185246.08800
SW_QUAD_CORNER_XY: 390332.21300 5185331.43200
SECONDARY_NW_QUAD_XY: 390455.98300 5192058.05700
SECONDARY_NE_QUAD_XY: 395218.70700 5191972.72200
SECONDARY_SE_QUAD_XY: 395097.09900 5185027.67100
SECONDARY_SW_QUAD_XY: 390328.84600 5185113.01700
RMSE_XY: 1.60000
IMAGE_SOURCE: BLACK AND WHITE FILM
SOURCE_IMAGE_ID: NAPP 9106 265
SOURCE_IMAGE_DATE: 1996 08 07
SOURCE_IMAGE_ID: NAPP 9106 263
SOURCE_IMAGE_DATE: 1996 08 07
SOURCE_IMAGE_ID: NAPP 9106 193
SOURCE_IMAGE_DATE: 1996 08 07
SOURCE_DEM_DATE: 1997 01 01
AGENCY: WESTERN MAPPING CENTER (WMC)
PRODUCER: UNDEFINED
PRODUCTION_SYSTEM: GIS/MAGIC
COMPRESSION: UNDEFINED
STANDARD_VERSION: 1996 12
METADATA_DATE: 1999 06 02
DATA_FILE_SIZE: 42274995
BYTE_COUNT: 5537
