FILENAME: O4610611.NWS.1008673.tif
QUADRANGLE_NAME: NEEDLE BUTTE RESERVOIR
QUADRANT: NW
WEST_LONGITUDE: -106 45 0.00000
EAST_LONGITUDE: -106 41 15.00000
NORTH_LATITUDE: 46 52 30.00000
SOUTH_LATITUDE: 46 48 45.00000
PRODUCTION_DATE: 1999 5 14
RASTER_ORDER: LEFT_RIGHT/TOP_BOTTOM
BAND_ORGANIZATION: SINGLE FILE
BAND_CONTENT: BLACK&WHITE
BAND_CONTENT: UNDEFINED
BAND_CONTENT: UNDEFINED
BITS_PER_PIXEL: 8
SAMPLES_AND_LINES: 5567 7653
HORIZONTAL_DATUM: NAD83
HORIZONTAL_COORDINATE_SYSTEM: UTM
COORDINATE_ZONE: 13
HORIZONTAL_UNITS: METERS
HORIZONTAL_RESOLUTION: 1.00000
SECONDARY_HORIZONTAL_DATUM: NAD27
XY_ORIGIN: 366144.00000 5193061.00000
SECONDARY_XY_ORIGIN: 366186.12400 5192841.76500
NATION: US
NATION: "SCIENCE
STATE: MT
NW_QUAD_CORNER_XY: 366646.59800 5192760.07600
NE_QUAD_CORNER_XY: 371409.13000 5192655.77200
SE_QUAD_CORNERY_XY: 371259.87100 5185710.75400
SW_QUAD_CORNER_XY: 366491.80800 5185815.07200
SECONDARY_NW_QUAD_XY: 366642.49900 5192541.64600
SECONDARY_NE_QUAD_XY: 371405.17700 5192437.33800
SECONDARY_SE_QUAD_XY: 371255.91900 5185492.35100
SECONDARY_SW_QUAD_XY: 366487.71000 5185596.67300
RMSE_XY: 2.80000
IMAGE_SOURCE: BLACK AND WHITE FILM
SOURCE_IMAGE_ID: NAPP 9111 228
SOURCE_IMAGE_DATE: 1996 08 11
SOURCE_IMAGE_ID: NAPP 9109 023
SOURCE_IMAGE_DATE: 1996 08 11
SOURCE_IMAGE_ID: NAPP 9111 229
SOURCE_IMAGE_DATE: 1996 08 11
SOURCE_DEM_DATE: 1988 00 00
AGENCY: WESTERN MAPPING CENTER (WMC)
PRODUCER: UNDEFINED
PRODUCTION_SYSTEM: GIS/MAGIC
COMPRESSION: UNDEFINED
STANDARD_VERSION: 1996 12
METADATA_DATE: 1999 05 24
DATA_FILE_SIZE: 42609818
BYTE_COUNT: 5567
