FILENAME: O4610609.SWS.1008639.tif
QUADRANGLE_NAME: VANSTEL
QUADRANT: SW
WEST_LONGITUDE: -107 0 0.00000
EAST_LONGITUDE: -106 56 15.00000
NORTH_LATITUDE: 46 48 45.00000
SOUTH_LATITUDE: 46 45 0.00000
PRODUCTION_DATE: 1999 5 11
RASTER_ORDER: LEFT_RIGHT/TOP_BOTTOM
BAND_ORGANIZATION: SINGLE FILE
BAND_CONTENT: BLACK&WHITE
BAND_CONTENT: UNDEFINED
BAND_CONTENT: UNDEFINED
BITS_PER_PIXEL: 8
SAMPLES_AND_LINES: 5595 7668
HORIZONTAL_DATUM: NAD83
HORIZONTAL_COORDINATE_SYSTEM: UTM
COORDINATE_ZONE: 13
HORIZONTAL_UNITS: METERS
HORIZONTAL_RESOLUTION: 1.00000
SECONDARY_HORIZONTAL_DATUM: NAD27
XY_ORIGIN: 346894.00000 5186571.00000
SECONDARY_XY_ORIGIN: 346936.57300 5186351.95700
NATION: US
NATION: "SCIENCE
STATE: MT
NW_QUAD_CORNER_XY: 347419.66000 5186270.30400
NE_QUAD_CORNER_XY: 352187.68100 5186150.80200
SE_QUAD_CORNERY_XY: 352016.47200 5179205.91200
SW_QUAD_CORNER_XY: 347242.92500 5179325.43000
SECONDARY_NW_QUAD_XY: 347414.97600 5186051.91800
SECONDARY_NE_QUAD_XY: 352183.14300 5185932.41200
SECONDARY_SE_QUAD_XY: 352011.93500 5178987.55400
SECONDARY_SW_QUAD_XY: 347238.24100 5179107.07600
RMSE_XY: 1.50000
IMAGE_SOURCE: BLACK AND WHITE FILM
SOURCE_IMAGE_ID: NAPP 9099 069
SOURCE_IMAGE_DATE: 1996 07 14
SOURCE_IMAGE_ID: NAPP 9099 068
SOURCE_IMAGE_DATE: 1996 07 14
SOURCE_IMAGE_ID: NAPP 10764 038
SOURCE_IMAGE_DATE: 1997 09 20
SOURCE_DEM_DATE: 1992 00 00
AGENCY: WESTERN MAPPING CENTER (WMC)
PRODUCER: UNDEFINED
PRODUCTION_SYSTEM: GIS/MAGIC
COMPRESSION: UNDEFINED
STANDARD_VERSION: 1996 12
METADATA_DATE: 1999 05 24
DATA_FILE_SIZE: 42908055
BYTE_COUNT: 5595
