FILENAME: O4610608.NWS.1112564.tif
QUADRANGLE_NAME: CROW ROCK
QUADRANT: NW
WEST_LONGITUDE: -106 7 30.00000
EAST_LONGITUDE: -106 3 45.00000
NORTH_LATITUDE: 47 0 0.00000
SOUTH_LATITUDE: 46 56 15.00000
PRODUCTION_DATE: 2000 11 14
RASTER_ORDER: LEFT_RIGHT/TOP_BOTTOM
BAND_ORGANIZATION: SINGLE FILE
BAND_CONTENT: BLACK&WHITE
BAND_CONTENT: UNDEFINED
BAND_CONTENT: UNDEFINED
BITS_PER_PIXEL: 8
SAMPLES_AND_LINES: 5499 7616
HORIZONTAL_DATUM: NAD83
HORIZONTAL_COORDINATE_SYSTEM: UTM
COORDINATE_ZONE: 13
HORIZONTAL_UNITS: METERS
HORIZONTAL_RESOLUTION: 1.00000
SECONDARY_HORIZONTAL_DATUM: NAD27
XY_ORIGIN: 414026.00000 5206080.00000
SECONDARY_XY_ORIGIN: 414067.63500 5205860.61700
NATION: US
NATION: "SCIENCE
STATE: MT
NW_QUAD_CORNER_XY: 414471.60300 5205778.24600
NE_QUAD_CORNER_XY: 419223.14200 5205711.90100
SE_QUAD_CORNERY_XY: 419128.98500 5198766.62100
SW_QUAD_CORNER_XY: 414371.90600 5198832.97600
SECONDARY_NW_QUAD_XY: 414468.96700 5205559.73000
SECONDARY_NE_QUAD_XY: 419220.65300 5205493.38300
SECONDARY_SE_QUAD_XY: 419126.49600 5198548.13200
SECONDARY_SW_QUAD_XY: 414369.27000 5198614.48900
RMSE_XY: 1.30000
IMAGE_SOURCE: BLACK AND WHITE FILM
SOURCE_IMAGE_ID: NAPP 9090 041
SOURCE_IMAGE_DATE: 1996 07 07
SOURCE_IMAGE_ID: NAPP 9089 066
SOURCE_IMAGE_DATE: 1996 07 07
SOURCE_DEM_DATE: 1988 00 00
AGENCY: WESTERN MAPPING CENTER (WMC)
PRODUCER: UNDEFINED
PRODUCTION_SYSTEM: GIS/MAGIC
COMPRESSION: UNDEFINED
STANDARD_VERSION: 1996 12
METADATA_DATE: 2000 11 16
DATA_FILE_SIZE: 41885883
BYTE_COUNT: 5499
