FILENAME: O4610607.NES.1112463.tif
QUADRANGLE_NAME: LITTLE CHALK BUTTE
QUADRANT: NE
WEST_LONGITUDE: -106 11 15.00000
EAST_LONGITUDE: -106 7 30.00000
NORTH_LATITUDE: 47 0 0.00000
SOUTH_LATITUDE: 46 56 15.00000
PRODUCTION_DATE: 2000 11 14
RASTER_ORDER: LEFT_RIGHT/TOP_BOTTOM
BAND_ORGANIZATION: SINGLE FILE
BAND_CONTENT: BLACK&WHITE
BAND_CONTENT: UNDEFINED
BAND_CONTENT: UNDEFINED
BITS_PER_PIXEL: 8
SAMPLES_AND_LINES: 5504 7620
HORIZONTAL_DATUM: NAD83
HORIZONTAL_COORDINATE_SYSTEM: UTM
COORDINATE_ZONE: 13
HORIZONTAL_UNITS: METERS
HORIZONTAL_RESOLUTION: 1.00000
SECONDARY_HORIZONTAL_DATUM: NAD27
XY_ORIGIN: 409269.00000 5206150.00000
SECONDARY_XY_ORIGIN: 409310.64800 5205930.67200
NATION: US
NATION: "SCIENCE
STATE: MT
NW_QUAD_CORNER_XY: 409720.07000 5205848.38300
NE_QUAD_CORNER_XY: 414471.60300 5205778.24600
SE_QUAD_CORNERY_XY: 414371.90600 5198832.97600
SW_QUAD_CORNER_XY: 409614.83400 5198903.12400
SECONDARY_NW_QUAD_XY: 409717.28800 5205629.87000
SECONDARY_NE_QUAD_XY: 414468.96700 5205559.73000
SECONDARY_SE_QUAD_XY: 414369.27000 5198614.48900
SECONDARY_SW_QUAD_XY: 409612.05200 5198684.63900
RMSE_XY: 1.60000
IMAGE_SOURCE: BLACK AND WHITE FILM
SOURCE_IMAGE_ID: NAPP 9106 042
SOURCE_IMAGE_DATE: 1996 08 07
SOURCE_DEM_DATE: 2000 01 01
AGENCY: WESTERN MAPPING CENTER (WMC)
PRODUCER: UNDEFINED
PRODUCTION_SYSTEM: GIS/MAGIC
COMPRESSION: UNDEFINED
STANDARD_VERSION: 1996 12
METADATA_DATE: 2000 11 16
DATA_FILE_SIZE: 41945984
BYTE_COUNT: 5504
