FILENAME: O4610607.SWS.1112466.tif
QUADRANGLE_NAME: LITTLE CHALK BUTTE
QUADRANT: SW
WEST_LONGITUDE: -106 15 0.00000
EAST_LONGITUDE: -106 11 15.00000
NORTH_LATITUDE: 46 56 15.00000
SOUTH_LATITUDE: 46 52 30.00000
PRODUCTION_DATE: 2000 11 14
RASTER_ORDER: LEFT_RIGHT/TOP_BOTTOM
BAND_ORGANIZATION: SINGLE FILE
BAND_CONTENT: BLACK&WHITE
BAND_CONTENT: UNDEFINED
BAND_CONTENT: UNDEFINED
BITS_PER_PIXEL: 8
SAMPLES_AND_LINES: 5515 7623
HORIZONTAL_DATUM: NAD83
HORIZONTAL_COORDINATE_SYSTEM: UTM
COORDINATE_ZONE: 13
HORIZONTAL_UNITS: METERS
HORIZONTAL_RESOLUTION: 1.00000
SECONDARY_HORIZONTAL_DATUM: NAD27
XY_ORIGIN: 404401.00000 5199278.00000
SECONDARY_XY_ORIGIN: 404442.60800 5199058.72400
NATION: US
NATION: "SCIENCE
STATE: MT
NW_QUAD_CORNER_XY: 404857.76800 5198977.06400
NE_QUAD_CORNER_XY: 409614.83400 5198903.12400
SE_QUAD_CORNERY_XY: 409509.70500 5191957.93700
SW_QUAD_CORNER_XY: 404747.10500 5192031.88800
SECONDARY_NW_QUAD_XY: 404854.84000 5198758.58200
SECONDARY_NE_QUAD_XY: 409612.05200 5198684.63900
SECONDARY_SE_QUAD_XY: 409506.92300 5191739.48200
SECONDARY_SW_QUAD_XY: 404744.17700 5191813.43500
RMSE_XY: 1.20000
IMAGE_SOURCE: BLACK AND WHITE FILM
SOURCE_IMAGE_ID: NAPP 9106 093
SOURCE_IMAGE_DATE: 1996 08 07
SOURCE_DEM_DATE: 2000 01 01
AGENCY: WESTERN MAPPING CENTER (WMC)
PRODUCER: UNDEFINED
PRODUCTION_SYSTEM: GIS/MAGIC
COMPRESSION: UNDEFINED
STANDARD_VERSION: 1996 12
METADATA_DATE: 2000 11 16
DATA_FILE_SIZE: 42046360
BYTE_COUNT: 5515
