FILENAME: O4610606.SES.1112425.tif
QUADRANGLE_NAME: COLEMAN COULEE
QUADRANT: SE
WEST_LONGITUDE: -106 18 45.00000
EAST_LONGITUDE: -106 15 0.00000
NORTH_LATITUDE: 46 56 15.00000
SOUTH_LATITUDE: 46 52 30.00000
PRODUCTION_DATE: 2000 11 14
RASTER_ORDER: LEFT_RIGHT/TOP_BOTTOM
BAND_ORGANIZATION: SINGLE FILE
BAND_CONTENT: BLACK&WHITE
BAND_CONTENT: UNDEFINED
BAND_CONTENT: UNDEFINED
BITS_PER_PIXEL: 8
SAMPLES_AND_LINES: 5521 7627
HORIZONTAL_DATUM: NAD83
HORIZONTAL_COORDINATE_SYSTEM: UTM
COORDINATE_ZONE: 13
HORIZONTAL_UNITS: METERS
HORIZONTAL_RESOLUTION: 1.00000
SECONDARY_HORIZONTAL_DATUM: NAD27
XY_ORIGIN: 399638.00000 5199356.00000
SECONDARY_XY_ORIGIN: 399679.61600 5199136.72000
NATION: US
NATION: "SCIENCE
STATE: MT
NW_QUAD_CORNER_XY: 400100.71000 5199054.79700
NE_QUAD_CORNER_XY: 404857.76800 5198977.06400
SE_QUAD_CORNERY_XY: 404747.10500 5192031.88800
SW_QUAD_CORNER_XY: 399984.51200 5192109.63200
SECONDARY_NW_QUAD_XY: 400097.63600 5198836.31800
SECONDARY_NE_QUAD_XY: 404854.84000 5198758.58200
SECONDARY_SE_QUAD_XY: 404744.17700 5191813.43500
SECONDARY_SW_QUAD_XY: 399981.43800 5191891.18200
RMSE_XY: 1.70000
IMAGE_SOURCE: BLACK AND WHITE FILM
SOURCE_IMAGE_ID: NAPP 9106 136
SOURCE_IMAGE_DATE: 1996 08 07
SOURCE_DEM_DATE: 2000 01 01
AGENCY: WESTERN MAPPING CENTER (WMC)
PRODUCER: UNDEFINED
PRODUCTION_SYSTEM: GIS/MAGIC
COMPRESSION: UNDEFINED
STANDARD_VERSION: 1996 12
METADATA_DATE: 2000 11 16
DATA_FILE_SIZE: 42114188
BYTE_COUNT: 5521
