FILENAME: O4610605.NES.1112387.tif
QUADRANGLE_NAME: HILLSIDE
QUADRANT: NE
WEST_LONGITUDE: -106 26 15.00000
EAST_LONGITUDE: -106 22 30.00000
NORTH_LATITUDE: 47 0 0.00000
SOUTH_LATITUDE: 46 56 15.00000
PRODUCTION_DATE: 2000 11 13
RASTER_ORDER: LEFT_RIGHT/TOP_BOTTOM
BAND_ORGANIZATION: SINGLE FILE
BAND_CONTENT: BLACK&WHITE
BAND_CONTENT: UNDEFINED
BAND_CONTENT: UNDEFINED
BITS_PER_PIXEL: 8
SAMPLES_AND_LINES: 5527 7634
HORIZONTAL_DATUM: NAD83
HORIZONTAL_COORDINATE_SYSTEM: UTM
COORDINATE_ZONE: 13
HORIZONTAL_UNITS: METERS
HORIZONTAL_RESOLUTION: 1.00000
SECONDARY_HORIZONTAL_DATUM: NAD27
XY_ORIGIN: 390240.00000 5206468.00000
SECONDARY_XY_ORIGIN: 390281.66600 5206248.67800
NATION: US
NATION: "SCIENCE
STATE: MT
NW_QUAD_CORNER_XY: 390714.01900 5206166.85700
NE_QUAD_CORNER_XY: 395465.51900 5206081.54900
SE_QUAD_CORNERY_XY: 395343.66100 5199136.32400
SW_QUAD_CORNER_XY: 390586.61900 5199221.64400
SECONDARY_NW_QUAD_XY: 390710.65100 5205948.35300
SECONDARY_NE_QUAD_XY: 395462.29800 5205863.04300
SECONDARY_SE_QUAD_XY: 395340.43900 5198917.84700
SECONDARY_SW_QUAD_XY: 390583.25100 5199003.16900
RMSE_XY: 2.60000
IMAGE_SOURCE: BLACK AND WHITE FILM
SOURCE_IMAGE_ID: NAPP 9106 269
SOURCE_IMAGE_DATE: 1996 08 07
SOURCE_IMAGE_ID: NAPP 9106 189
SOURCE_IMAGE_DATE: 1996 08 07
SOURCE_DEM_DATE: 2000 01 01
AGENCY: WESTERN MAPPING CENTER (WMC)
PRODUCER: UNDEFINED
PRODUCTION_SYSTEM: GIS/MAGIC
COMPRESSION: UNDEFINED
STANDARD_VERSION: 1996 12
METADATA_DATE: 2000 11 16
DATA_FILE_SIZE: 42198645
BYTE_COUNT: 5527
