FILENAME: O4610605.SES.1112389.tif
QUADRANGLE_NAME: HILLSIDE
QUADRANT: SE
WEST_LONGITUDE: -106 26 15.00000
EAST_LONGITUDE: -106 22 30.00000
NORTH_LATITUDE: 46 56 15.00000
SOUTH_LATITUDE: 46 52 30.00000
PRODUCTION_DATE: 2000 11 13
RASTER_ORDER: LEFT_RIGHT/TOP_BOTTOM
BAND_ORGANIZATION: SINGLE FILE
BAND_CONTENT: BLACK&WHITE
BAND_CONTENT: UNDEFINED
BAND_CONTENT: UNDEFINED
BITS_PER_PIXEL: 8
SAMPLES_AND_LINES: 5532 7634
HORIZONTAL_DATUM: NAD83
HORIZONTAL_COORDINATE_SYSTEM: UTM
COORDINATE_ZONE: 13
HORIZONTAL_UNITS: METERS
HORIZONTAL_RESOLUTION: 1.00000
SECONDARY_HORIZONTAL_DATUM: NAD27
XY_ORIGIN: 390113.00000 5199523.00000
SECONDARY_XY_ORIGIN: 390154.63100 5199303.70800
NATION: US
NATION: "SCIENCE
STATE: MT
NW_QUAD_CORNER_XY: 390586.61900 5199221.64400
NE_QUAD_CORNER_XY: 395343.66100 5199136.32400
SE_QUAD_CORNERY_XY: 395221.92700 5192191.17000
SW_QUAD_CORNER_XY: 390459.35000 5192276.50200
SECONDARY_NW_QUAD_XY: 390583.25100 5199003.16900
SECONDARY_NE_QUAD_XY: 395340.43900 5198917.84700
SECONDARY_SE_QUAD_XY: 395218.70700 5191972.72200
SECONDARY_SW_QUAD_XY: 390455.98300 5192058.05700
RMSE_XY: 1.70000
IMAGE_SOURCE: BLACK AND WHITE FILM
SOURCE_IMAGE_ID: NAPP 9106 267
SOURCE_IMAGE_DATE: 1996 08 07
SOURCE_DEM_DATE: 2000 01 01
AGENCY: WESTERN MAPPING CENTER (WMC)
PRODUCER: UNDEFINED
PRODUCTION_SYSTEM: GIS/MAGIC
COMPRESSION: UNDEFINED
STANDARD_VERSION: 1996 12
METADATA_DATE: 2000 11 16
DATA_FILE_SIZE: 42236820
BYTE_COUNT: 5532
