FILENAME: O4610602.NWS.1112267.tif
QUADRANGLE_NAME: ANTELOPE SPRINGS
QUADRANT: NW
WEST_LONGITUDE: -106 52 30.00000
EAST_LONGITUDE: -106 48 45.00000
NORTH_LATITUDE: 47 0 0.00000
SOUTH_LATITUDE: 46 56 15.00000
PRODUCTION_DATE: 2000 11 13
RASTER_ORDER: LEFT_RIGHT/TOP_BOTTOM
BAND_ORGANIZATION: SINGLE FILE
BAND_CONTENT: BLACK&WHITE
BAND_CONTENT: UNDEFINED
BAND_CONTENT: UNDEFINED
BITS_PER_PIXEL: 8
SAMPLES_AND_LINES: 5568 7661
HORIZONTAL_DATUM: NAD83
HORIZONTAL_COORDINATE_SYSTEM: UTM
COORDINATE_ZONE: 13
HORIZONTAL_UNITS: METERS
HORIZONTAL_RESOLUTION: 1.00000
SECONDARY_HORIZONTAL_DATUM: NAD27
XY_ORIGIN: 356939.00000 5207172.00000
SECONDARY_XY_ORIGIN: 356981.41100 5206952.59100
NATION: US
NATION: "SCIENCE
STATE: MT
NW_QUAD_CORNER_XY: 357453.78700 5206870.22000
NE_QUAD_CORNER_XY: 362205.21700 5206758.35800
SE_QUAD_CORNERY_XY: 362044.56400 5199813.23200
SW_QUAD_CORNER_XY: 357287.59100 5199925.11000
SECONDARY_NW_QUAD_XY: 357449.39400 5206651.73800
SECONDARY_NE_QUAD_XY: 362200.97000 5206539.87200
SECONDARY_SE_QUAD_XY: 362040.31800 5199594.77600
SECONDARY_SW_QUAD_XY: 357283.19900 5199706.65700
RMSE_XY: 2.10000
IMAGE_SOURCE: BLACK AND WHITE FILM
SOURCE_IMAGE_ID: NAPP 10723 037
SOURCE_IMAGE_DATE: 1997 08 28
SOURCE_DEM_DATE: 1988 00 00
AGENCY: WESTERN MAPPING CENTER (WMC)
PRODUCER: UNDEFINED
PRODUCTION_SYSTEM: GIS/MAGIC
COMPRESSION: UNDEFINED
STANDARD_VERSION: 1996 12
METADATA_DATE: 2000 11 17
DATA_FILE_SIZE: 42662016
BYTE_COUNT: 5568
