FILENAME: O4610602.SES.1112268.tif
QUADRANGLE_NAME: ANTELOPE SPRINGS
QUADRANT: SE
WEST_LONGITUDE: -106 48 45.00000
EAST_LONGITUDE: -106 45 0.00000
NORTH_LATITUDE: 46 56 15.00000
SOUTH_LATITUDE: 46 52 30.00000
PRODUCTION_DATE: 2000 11 13
RASTER_ORDER: LEFT_RIGHT/TOP_BOTTOM
BAND_ORGANIZATION: SINGLE FILE
BAND_CONTENT: BLACK&WHITE
BAND_CONTENT: UNDEFINED
BAND_CONTENT: UNDEFINED
BITS_PER_PIXEL: 8
SAMPLES_AND_LINES: 5567 7657
HORIZONTAL_DATUM: NAD83
HORIZONTAL_COORDINATE_SYSTEM: UTM
COORDINATE_ZONE: 13
HORIZONTAL_UNITS: METERS
HORIZONTAL_RESOLUTION: 1.00000
SECONDARY_HORIZONTAL_DATUM: NAD27
XY_ORIGIN: 361536.00000 5200115.00000
SECONDARY_XY_ORIGIN: 361578.26300 5199895.69500
NATION: US
NATION: "SCIENCE
STATE: MT
NW_QUAD_CORNER_XY: 362044.56400 5199813.23200
NE_QUAD_CORNER_XY: 366801.54800 5199705.14900
SE_QUAD_CORNERY_XY: 366646.59800 5192760.07600
SW_QUAD_CORNER_XY: 361884.07700 5192868.17500
SECONDARY_NW_QUAD_XY: 362040.31800 5199594.77600
SECONDARY_NE_QUAD_XY: 366797.44900 5199486.68900
SECONDARY_SE_QUAD_XY: 366642.49900 5192541.64600
SECONDARY_SW_QUAD_XY: 361879.83200 5192649.74800
RMSE_XY: 1.80000
IMAGE_SOURCE: BLACK AND WHITE FILM
SOURCE_IMAGE_ID: NAPP 9109 025
SOURCE_IMAGE_DATE: 1996 08 11
SOURCE_IMAGE_ID: NAPP 10723 035
SOURCE_IMAGE_DATE: 1997 08 28
SOURCE_IMAGE_ID: NAPP 9109 026
SOURCE_IMAGE_DATE: 1996 08 11
SOURCE_DEM_DATE: 1988 00 00
AGENCY: WESTERN MAPPING CENTER (WMC)
PRODUCER: UNDEFINED
PRODUCTION_SYSTEM: GIS/MAGIC
COMPRESSION: UNDEFINED
STANDARD_VERSION: 1996 12
METADATA_DATE: 2000 11 17
DATA_FILE_SIZE: 42632086
BYTE_COUNT: 5567
