FILENAME: O4610601.SWS.1112233.tif
QUADRANGLE_NAME: MOTHER BUTTE
QUADRANT: SW
WEST_LONGITUDE: -107 0 0.00000
EAST_LONGITUDE: -106 56 15.00000
NORTH_LATITUDE: 46 56 15.00000
SOUTH_LATITUDE: 46 52 30.00000
PRODUCTION_DATE: 2000 11 16
RASTER_ORDER: LEFT_RIGHT/TOP_BOTTOM
BAND_ORGANIZATION: SINGLE FILE
BAND_CONTENT: BLACK&WHITE
BAND_CONTENT: UNDEFINED
BAND_CONTENT: UNDEFINED
BITS_PER_PIXEL: 8
SAMPLES_AND_LINES: 5584 7669
HORIZONTAL_DATUM: NAD83
HORIZONTAL_COORDINATE_SYSTEM: UTM
COORDINATE_ZONE: 13
HORIZONTAL_UNITS: METERS
HORIZONTAL_RESOLUTION: 1.00000
SECONDARY_HORIZONTAL_DATUM: NAD27
XY_ORIGIN: 347248.00000 5200462.00000
SECONDARY_XY_ORIGIN: 347290.63600 5200242.68800
NATION: US
NATION: "SCIENCE
STATE: MT
NW_QUAD_CORNER_XY: 347773.68000 5200160.25200
NE_QUAD_CORNER_XY: 352530.63000 5200040.78400
SE_QUAD_CORNERY_XY: 352359.06700 5193095.75900
SW_QUAD_CORNER_XY: 347596.57900 5193215.24500
SECONDARY_NW_QUAD_XY: 347768.99400 5199941.80600
SECONDARY_NE_QUAD_XY: 352526.09100 5199822.33400
SECONDARY_SE_QUAD_XY: 352354.52900 5192877.33900
SECONDARY_SW_QUAD_XY: 347591.89400 5192996.82800
RMSE_XY: 2.80000
IMAGE_SOURCE: BLACK AND WHITE FILM
SOURCE_IMAGE_ID: NAPP 9099 073
SOURCE_IMAGE_DATE: 1996 07 14
SOURCE_DEM_DATE: 2000 01 01
AGENCY: WESTERN MAPPING CENTER (WMC)
PRODUCER: UNDEFINED
PRODUCTION_SYSTEM: GIS/MAGIC
COMPRESSION: UNDEFINED
STANDARD_VERSION: 1996 12
METADATA_DATE: 2000 11 17
DATA_FILE_SIZE: 42829280
BYTE_COUNT: 5584
